BEGIN:VCALENDAR
VERSION:2.0
PRODID:-//HTL Zeltweg - ECPv6.4.0.1//NONSGML v1.0//EN
CALSCALE:GREGORIAN
METHOD:PUBLISH
X-ORIGINAL-URL:https://www.htl-zeltweg.at
X-WR-CALDESC:Veranstaltungen für HTL Zeltweg
REFRESH-INTERVAL;VALUE=DURATION:PT1H
X-Robots-Tag:noindex
X-PUBLISHED-TTL:PT1H
BEGIN:VTIMEZONE
TZID:Europe/Vienna
BEGIN:DAYLIGHT
TZOFFSETFROM:+0100
TZOFFSETTO:+0200
TZNAME:CEST
DTSTART:20210328T010000
END:DAYLIGHT
BEGIN:STANDARD
TZOFFSETFROM:+0200
TZOFFSETTO:+0100
TZNAME:CET
DTSTART:20211031T010000
END:STANDARD
BEGIN:DAYLIGHT
TZOFFSETFROM:+0100
TZOFFSETTO:+0200
TZNAME:CEST
DTSTART:20220327T010000
END:DAYLIGHT
BEGIN:STANDARD
TZOFFSETFROM:+0200
TZOFFSETTO:+0100
TZNAME:CET
DTSTART:20221030T010000
END:STANDARD
BEGIN:DAYLIGHT
TZOFFSETFROM:+0100
TZOFFSETTO:+0200
TZNAME:CEST
DTSTART:20230326T010000
END:DAYLIGHT
BEGIN:STANDARD
TZOFFSETFROM:+0200
TZOFFSETTO:+0100
TZNAME:CET
DTSTART:20231029T010000
END:STANDARD
BEGIN:DAYLIGHT
TZOFFSETFROM:+0100
TZOFFSETTO:+0200
TZNAME:CEST
DTSTART:20240331T010000
END:DAYLIGHT
BEGIN:STANDARD
TZOFFSETFROM:+0200
TZOFFSETTO:+0100
TZNAME:CET
DTSTART:20241027T010000
END:STANDARD
BEGIN:DAYLIGHT
TZOFFSETFROM:+0100
TZOFFSETTO:+0200
TZNAME:CEST
DTSTART:20250330T010000
END:DAYLIGHT
BEGIN:STANDARD
TZOFFSETFROM:+0200
TZOFFSETTO:+0100
TZNAME:CET
DTSTART:20251026T010000
END:STANDARD
END:VTIMEZONE
BEGIN:VEVENT
DTSTART;VALUE=DATE:20250929
DTEND;VALUE=DATE:20250930
DTSTAMP:20260421T045600
CREATED:20250922T102354Z
LAST-MODIFIED:20250922T141514Z
UID:33069-1759104000-1759190399@www.htl-zeltweg.at
SUMMARY:Exkursion Baustelle Aichdorf - 5AHBTH und 5BHBTB - WO/RIS
DESCRIPTION:
URL:https://www.htl-zeltweg.at/termine/exkursion-baustelle-aichdorf-5ahbth-und-5bhbtb-wo-ris/
END:VEVENT
BEGIN:VEVENT
DTSTART;VALUE=DATE:20210926
DTEND;VALUE=DATE:20211002
DTSTAMP:20260421T045600
CREATED:20210922T112350Z
LAST-MODIFIED:20210922T112351Z
UID:13677-1632614400-1633132799@www.htl-zeltweg.at
SUMMARY:Wienwoche 3AHBTH/3YHBTH/4AHBTH/4YHBTB
DESCRIPTION:
URL:https://www.htl-zeltweg.at/termine/wienwoche-3ahbth-3yhbth-4ahbth-4yhbtb/
END:VEVENT
BEGIN:VEVENT
DTSTART;VALUE=DATE:20210927
DTEND;VALUE=DATE:20211002
DTSTAMP:20260421T045600
CREATED:20210714T093049Z
LAST-MODIFIED:20210715T100046Z
UID:13334-1632700800-1633132799@www.htl-zeltweg.at
SUMMARY:Semesterprüfungen: 1. Termin Wintersemester
DESCRIPTION:
URL:https://www.htl-zeltweg.at/termine/semesterpruefungen-1-termin-wintersemester-4/
END:VEVENT
BEGIN:VEVENT
DTSTART;VALUE=DATE:20210927
DTEND;VALUE=DATE:20211002
DTSTAMP:20260421T045600
CREATED:20210927T124725Z
LAST-MODIFIED:20210927T124726Z
UID:13690-1632700800-1633132799@www.htl-zeltweg.at
SUMMARY:Abschlussexkursion Innsbruck 5YHBTB
DESCRIPTION:
URL:https://www.htl-zeltweg.at/termine/abschlussexkursion-innsbruck-5yhbtb/
END:VEVENT
END:VCALENDAR