BEGIN:VCALENDAR
VERSION:2.0
PRODID:-//HTL Zeltweg - ECPv6.4.0.1//NONSGML v1.0//EN
CALSCALE:GREGORIAN
METHOD:PUBLISH
X-ORIGINAL-URL:https://www.htl-zeltweg.at
X-WR-CALDESC:Veranstaltungen für HTL Zeltweg
REFRESH-INTERVAL;VALUE=DURATION:PT1H
X-Robots-Tag:noindex
X-PUBLISHED-TTL:PT1H
BEGIN:VTIMEZONE
TZID:Europe/Vienna
BEGIN:DAYLIGHT
TZOFFSETFROM:+0100
TZOFFSETTO:+0200
TZNAME:CEST
DTSTART:20230326T010000
END:DAYLIGHT
BEGIN:STANDARD
TZOFFSETFROM:+0200
TZOFFSETTO:+0100
TZNAME:CET
DTSTART:20231029T010000
END:STANDARD
BEGIN:DAYLIGHT
TZOFFSETFROM:+0100
TZOFFSETTO:+0200
TZNAME:CEST
DTSTART:20240331T010000
END:DAYLIGHT
BEGIN:STANDARD
TZOFFSETFROM:+0200
TZOFFSETTO:+0100
TZNAME:CET
DTSTART:20241027T010000
END:STANDARD
BEGIN:DAYLIGHT
TZOFFSETFROM:+0100
TZOFFSETTO:+0200
TZNAME:CEST
DTSTART:20250330T010000
END:DAYLIGHT
BEGIN:STANDARD
TZOFFSETFROM:+0200
TZOFFSETTO:+0100
TZNAME:CET
DTSTART:20251026T010000
END:STANDARD
END:VTIMEZONE
BEGIN:VEVENT
DTSTART;VALUE=DATE:20250929
DTEND;VALUE=DATE:20250930
DTSTAMP:20260421T100542
CREATED:20250922T102354Z
LAST-MODIFIED:20250922T141514Z
UID:33069-1759104000-1759190399@www.htl-zeltweg.at
SUMMARY:Exkursion Baustelle Aichdorf - 5AHBTH und 5BHBTB - WO/RIS
DESCRIPTION:
URL:https://www.htl-zeltweg.at/termine/exkursion-baustelle-aichdorf-5ahbth-und-5bhbtb-wo-ris/
END:VEVENT
BEGIN:VEVENT
DTSTART;VALUE=DATE:20230611
DTEND;VALUE=DATE:20230617
DTSTAMP:20260421T100542
CREATED:20230131T101415Z
LAST-MODIFIED:20230131T101417Z
UID:18774-1686441600-1686959999@www.htl-zeltweg.at
SUMMARY:Sommersportwoche in Faak am See: 3AHBTH\, 3BHBTB
DESCRIPTION:
URL:https://www.htl-zeltweg.at/termine/sommersportwoche-in-faak-am-see-3ahbth-3bhbtb/
END:VEVENT
BEGIN:VEVENT
DTSTART;VALUE=DATE:20230612
DTEND;VALUE=DATE:20230613
DTSTAMP:20260421T100542
CREATED:20221108T090105Z
LAST-MODIFIED:20221108T090106Z
UID:17686-1686528000-1686614399@www.htl-zeltweg.at
SUMMARY:Mündl. Reife- und Diplomprüfung: 5AHMBT
DESCRIPTION:
URL:https://www.htl-zeltweg.at/termine/muendl-reife-und-diplompruefung-5ahmbt/
END:VEVENT
BEGIN:VEVENT
DTSTART;VALUE=DATE:20230612
DTEND;VALUE=DATE:20230613
DTSTAMP:20260421T100542
CREATED:20221114T122150Z
LAST-MODIFIED:20221114T122150Z
UID:17768-1686528000-1686614399@www.htl-zeltweg.at
SUMMARY:Anmeldeschluss für Semesterprüfungen 3. Termin Sommersemester
DESCRIPTION:
URL:https://www.htl-zeltweg.at/termine/anmeldeschluss-fuer-semesterpruefungen-3-termin-sommersemester/
END:VEVENT
BEGIN:VEVENT
DTSTART;TZID=Europe/Vienna:20230612T084000
DTEND;TZID=Europe/Vienna:20230612T093000
DTSTAMP:20260421T100542
CREATED:20230607T054215Z
LAST-MODIFIED:20230607T054217Z
UID:21285-1686559200-1686562200@www.htl-zeltweg.at
SUMMARY:W05 - TU Graz Vorstellung Studienangebot - 4AHBTH\, 4YHBTH - RB
DESCRIPTION:
URL:https://www.htl-zeltweg.at/termine/w05-tu-graz-vorstellung-studienangebot-4ahbth-4yhbth-rb/
END:VEVENT
BEGIN:VEVENT
DTSTART;TZID=Europe/Vienna:20230612T113000
DTEND;TZID=Europe/Vienna:20230612T164000
DTSTAMP:20260421T100542
CREATED:20230612T051758Z
LAST-MODIFIED:20230612T051759Z
UID:21387-1686569400-1686588000@www.htl-zeltweg.at
SUMMARY:Schadstoffmengenermittlung in Zeltweg - 4YHBTH - SU
DESCRIPTION:
URL:https://www.htl-zeltweg.at/termine/schadstoffmengenermittlung-in-zeltweg-4yhbth-su/
END:VEVENT
END:VCALENDAR