BEGIN:VCALENDAR
VERSION:2.0
PRODID:-//HTL Zeltweg - ECPv6.4.0.1//NONSGML v1.0//EN
CALSCALE:GREGORIAN
METHOD:PUBLISH
X-ORIGINAL-URL:https://www.htl-zeltweg.at
X-WR-CALDESC:Veranstaltungen für HTL Zeltweg
REFRESH-INTERVAL;VALUE=DURATION:PT1H
X-Robots-Tag:noindex
X-PUBLISHED-TTL:PT1H
BEGIN:VTIMEZONE
TZID:Europe/Vienna
BEGIN:DAYLIGHT
TZOFFSETFROM:+0100
TZOFFSETTO:+0200
TZNAME:CEST
DTSTART:20230326T010000
END:DAYLIGHT
BEGIN:STANDARD
TZOFFSETFROM:+0200
TZOFFSETTO:+0100
TZNAME:CET
DTSTART:20231029T010000
END:STANDARD
BEGIN:DAYLIGHT
TZOFFSETFROM:+0100
TZOFFSETTO:+0200
TZNAME:CEST
DTSTART:20240331T010000
END:DAYLIGHT
BEGIN:STANDARD
TZOFFSETFROM:+0200
TZOFFSETTO:+0100
TZNAME:CET
DTSTART:20241027T010000
END:STANDARD
BEGIN:DAYLIGHT
TZOFFSETFROM:+0100
TZOFFSETTO:+0200
TZNAME:CEST
DTSTART:20250330T010000
END:DAYLIGHT
BEGIN:STANDARD
TZOFFSETFROM:+0200
TZOFFSETTO:+0100
TZNAME:CET
DTSTART:20251026T010000
END:STANDARD
END:VTIMEZONE
BEGIN:VEVENT
DTSTART;VALUE=DATE:20250929
DTEND;VALUE=DATE:20250930
DTSTAMP:20260421T063205
CREATED:20250922T102354Z
LAST-MODIFIED:20250922T141514Z
UID:33069-1759104000-1759190399@www.htl-zeltweg.at
SUMMARY:Exkursion Baustelle Aichdorf - 5AHBTH und 5BHBTB - WO/RIS
DESCRIPTION:
URL:https://www.htl-zeltweg.at/termine/exkursion-baustelle-aichdorf-5ahbth-und-5bhbtb-wo-ris/
END:VEVENT
BEGIN:VEVENT
DTSTART;VALUE=DATE:20230625
DTEND;VALUE=DATE:20230701
DTSTAMP:20260421T063205
CREATED:20230130T130729Z
LAST-MODIFIED:20230130T130729Z
UID:18770-1687651200-1688169599@www.htl-zeltweg.at
SUMMARY:Sommersportwoche in Maria Alm/Hintermoos: 3AHMBR\, 3BHMBR
DESCRIPTION:
URL:https://www.htl-zeltweg.at/termine/sommersportwoche-in-maria-alm-hintermoos-3ahmbr-3bhmbr/
END:VEVENT
BEGIN:VEVENT
DTSTART;VALUE=DATE:20230626
DTEND;VALUE=DATE:20230701
DTSTAMP:20260421T063205
CREATED:20230522T080449Z
LAST-MODIFIED:20230522T082956Z
UID:21069-1687737600-1688169599@www.htl-zeltweg.at
SUMMARY:Abschlussexkursion Barcelona: 4AHMBT und 4BHMBT
DESCRIPTION:
URL:https://www.htl-zeltweg.at/termine/abschlussexkursion-barcelona-4ahmbt-und-4bhmbt/
END:VEVENT
BEGIN:VEVENT
DTSTART;VALUE=DATE:20230627
DTEND;VALUE=DATE:20230628
DTSTAMP:20260421T063205
CREATED:20230602T193628Z
LAST-MODIFIED:20230602T193629Z
UID:21181-1687824000-1687910399@www.htl-zeltweg.at
SUMMARY:18.00 Notenschluss
DESCRIPTION:
URL:https://www.htl-zeltweg.at/termine/18-00-notenschluss/
END:VEVENT
BEGIN:VEVENT
DTSTART;TZID=Europe/Vienna:20230627T075000
DTEND;TZID=Europe/Vienna:20230627T140000
DTSTAMP:20260421T063205
CREATED:20230622T112319Z
LAST-MODIFIED:20230622T112319Z
UID:21730-1687852200-1687874400@www.htl-zeltweg.at
SUMMARY:Freibad Knittelfeld - 2BHBTB - GS\, GU
DESCRIPTION:
URL:https://www.htl-zeltweg.at/termine/freibad-knittelfeld-2bhbtb-gs-gu/
END:VEVENT
END:VCALENDAR