BEGIN:VCALENDAR
VERSION:2.0
PRODID:-//HTL Zeltweg - ECPv6.4.0.1//NONSGML v1.0//EN
CALSCALE:GREGORIAN
METHOD:PUBLISH
X-WR-CALNAME:HTL Zeltweg
X-ORIGINAL-URL:https://www.htl-zeltweg.at
X-WR-CALDESC:Veranstaltungen für HTL Zeltweg
REFRESH-INTERVAL;VALUE=DURATION:PT1H
X-Robots-Tag:noindex
X-PUBLISHED-TTL:PT1H
BEGIN:VTIMEZONE
TZID:Europe/Vienna
BEGIN:DAYLIGHT
TZOFFSETFROM:+0100
TZOFFSETTO:+0200
TZNAME:CEST
DTSTART:20230326T010000
END:DAYLIGHT
BEGIN:STANDARD
TZOFFSETFROM:+0200
TZOFFSETTO:+0100
TZNAME:CET
DTSTART:20231029T010000
END:STANDARD
BEGIN:DAYLIGHT
TZOFFSETFROM:+0100
TZOFFSETTO:+0200
TZNAME:CEST
DTSTART:20240331T010000
END:DAYLIGHT
BEGIN:STANDARD
TZOFFSETFROM:+0200
TZOFFSETTO:+0100
TZNAME:CET
DTSTART:20241027T010000
END:STANDARD
BEGIN:DAYLIGHT
TZOFFSETFROM:+0100
TZOFFSETTO:+0200
TZNAME:CEST
DTSTART:20250330T010000
END:DAYLIGHT
BEGIN:STANDARD
TZOFFSETFROM:+0200
TZOFFSETTO:+0100
TZNAME:CET
DTSTART:20251026T010000
END:STANDARD
END:VTIMEZONE
BEGIN:VEVENT
DTSTART;VALUE=DATE:20250929
DTEND;VALUE=DATE:20250930
DTSTAMP:20260421T030016
CREATED:20250922T102354Z
LAST-MODIFIED:20250922T141514Z
UID:33069-1759104000-1759190399@www.htl-zeltweg.at
SUMMARY:Exkursion Baustelle Aichdorf - 5AHBTH und 5BHBTB - WO/RIS
DESCRIPTION:
URL:https://www.htl-zeltweg.at/termine/exkursion-baustelle-aichdorf-5ahbth-und-5bhbtb-wo-ris/
END:VEVENT
BEGIN:VEVENT
DTSTART;VALUE=DATE:20230911
DTEND;VALUE=DATE:20230913
DTSTAMP:20260421T030016
CREATED:20230516T081930Z
LAST-MODIFIED:20230516T081930Z
UID:21032-1694390400-1694563199@www.htl-zeltweg.at
SUMMARY:Wiederholungs- und Semesterprüfungen
DESCRIPTION:
URL:https://www.htl-zeltweg.at/termine/wiederholungs-und-semesterpruefungen/
END:VEVENT
BEGIN:VEVENT
DTSTART;VALUE=DATE:20230912
DTEND;VALUE=DATE:20230913
DTSTAMP:20260421T030016
CREATED:20230626T130856Z
LAST-MODIFIED:20230626T130857Z
UID:21750-1694476800-1694563199@www.htl-zeltweg.at
SUMMARY:Antragsabgabe für Schüler-/Topticket in der HTL Zeltweg ab 9 Uhr
DESCRIPTION:
URL:https://www.htl-zeltweg.at/termine/antragsabgabe-fuer-schueler-topticket-in-der-htl-zeltweg-ab-9-uhr/
END:VEVENT
BEGIN:VEVENT
DTSTART;TZID=Europe/Vienna:20230912T080000
DTEND;TZID=Europe/Vienna:20230912T083000
DTSTAMP:20260421T030016
CREATED:20230714T090422Z
LAST-MODIFIED:20230714T090422Z
UID:22025-1694505600-1694507400@www.htl-zeltweg.at
SUMMARY:Gottesdienst:  2.-5. Jahrgänge\, anschließend Unterricht lt. WebUntis
DESCRIPTION:
URL:https://www.htl-zeltweg.at/termine/gottesdienst-2-5-jahrgaenge-anschliessend-unterricht-lt-webuntis/
END:VEVENT
BEGIN:VEVENT
DTSTART;TZID=Europe/Vienna:20230912T100000
DTEND;TZID=Europe/Vienna:20230912T103000
DTSTAMP:20260421T030016
CREATED:20230714T090532Z
LAST-MODIFIED:20230714T090533Z
UID:22027-1694512800-1694514600@www.htl-zeltweg.at
SUMMARY:Gottesdienst:  1. Jahrgänge\, anschließend Unterricht bis 11.25 Uhr
DESCRIPTION:
URL:https://www.htl-zeltweg.at/termine/gottesdienst-1-jahrgaenge-anschliessend-unterricht-bis-11-25-uhr-4/
END:VEVENT
END:VCALENDAR