BEGIN:VCALENDAR
VERSION:2.0
PRODID:-//HTL Zeltweg - ECPv6.4.0.1//NONSGML v1.0//EN
CALSCALE:GREGORIAN
METHOD:PUBLISH
X-WR-CALNAME:HTL Zeltweg
X-ORIGINAL-URL:https://www.htl-zeltweg.at
X-WR-CALDESC:Veranstaltungen für HTL Zeltweg
REFRESH-INTERVAL;VALUE=DURATION:PT1H
X-Robots-Tag:noindex
X-PUBLISHED-TTL:PT1H
BEGIN:VTIMEZONE
TZID:Europe/Vienna
BEGIN:DAYLIGHT
TZOFFSETFROM:+0100
TZOFFSETTO:+0200
TZNAME:CEST
DTSTART:20240331T010000
END:DAYLIGHT
BEGIN:STANDARD
TZOFFSETFROM:+0200
TZOFFSETTO:+0100
TZNAME:CET
DTSTART:20241027T010000
END:STANDARD
BEGIN:DAYLIGHT
TZOFFSETFROM:+0100
TZOFFSETTO:+0200
TZNAME:CEST
DTSTART:20250330T010000
END:DAYLIGHT
BEGIN:STANDARD
TZOFFSETFROM:+0200
TZOFFSETTO:+0100
TZNAME:CET
DTSTART:20251026T010000
END:STANDARD
END:VTIMEZONE
BEGIN:VEVENT
DTSTART;VALUE=DATE:20250929
DTEND;VALUE=DATE:20250930
DTSTAMP:20260420T233124
CREATED:20250922T102354Z
LAST-MODIFIED:20250922T141514Z
UID:33069-1759104000-1759190399@www.htl-zeltweg.at
SUMMARY:Exkursion Baustelle Aichdorf - 5AHBTH und 5BHBTB - WO/RIS
DESCRIPTION:
URL:https://www.htl-zeltweg.at/termine/exkursion-baustelle-aichdorf-5ahbth-und-5bhbtb-wo-ris/
END:VEVENT
BEGIN:VEVENT
DTSTART;VALUE=DATE:20240108
DTEND;VALUE=DATE:20240113
DTSTAMP:20260420T233124
CREATED:20231206T102154Z
LAST-MODIFIED:20231206T102157Z
UID:24240-1704672000-1705103999@www.htl-zeltweg.at
SUMMARY:Wienaktion - 4AHMBR\, 4BHMBR - TC\, HH
DESCRIPTION:
URL:https://www.htl-zeltweg.at/termine/wienaktion-4ahmbr-4bhmbr-tc-hh/
END:VEVENT
BEGIN:VEVENT
DTSTART;VALUE=DATE:20240110
DTEND;VALUE=DATE:20240118
DTSTAMP:20260420T233124
CREATED:20230712T061516Z
LAST-MODIFIED:20230712T061517Z
UID:21981-1704844800-1705535999@www.htl-zeltweg.at
SUMMARY:Anmeldezeitraum Semesterprüfungen - 3. Termin WS
DESCRIPTION:
URL:https://www.htl-zeltweg.at/termine/anmeldezeitraum-semesterpruefungen-3-termin-ws/
END:VEVENT
BEGIN:VEVENT
DTSTART;VALUE=DATE:20240112
DTEND;VALUE=DATE:20240113
DTSTAMP:20260420T233124
CREATED:20231013T093932Z
LAST-MODIFIED:20231013T094112Z
UID:23369-1705017600-1705103999@www.htl-zeltweg.at
SUMMARY:RDP Wintertermin 22/23 - Fachtheorie\, ab 8.30 Uhr
DESCRIPTION:
URL:https://www.htl-zeltweg.at/termine/reife-und-diplompruefung-2-nebentermin-fachtheorie-ab-8-30-uhr/
END:VEVENT
END:VCALENDAR