BEGIN:VCALENDAR
VERSION:2.0
PRODID:-//HTL Zeltweg - ECPv6.4.0.1//NONSGML v1.0//EN
CALSCALE:GREGORIAN
METHOD:PUBLISH
X-ORIGINAL-URL:https://www.htl-zeltweg.at
X-WR-CALDESC:Veranstaltungen für HTL Zeltweg
REFRESH-INTERVAL;VALUE=DURATION:PT1H
X-Robots-Tag:noindex
X-PUBLISHED-TTL:PT1H
BEGIN:VTIMEZONE
TZID:Europe/Vienna
BEGIN:DAYLIGHT
TZOFFSETFROM:+0100
TZOFFSETTO:+0200
TZNAME:CEST
DTSTART:20240331T010000
END:DAYLIGHT
BEGIN:STANDARD
TZOFFSETFROM:+0200
TZOFFSETTO:+0100
TZNAME:CET
DTSTART:20241027T010000
END:STANDARD
BEGIN:DAYLIGHT
TZOFFSETFROM:+0100
TZOFFSETTO:+0200
TZNAME:CEST
DTSTART:20250330T010000
END:DAYLIGHT
BEGIN:STANDARD
TZOFFSETFROM:+0200
TZOFFSETTO:+0100
TZNAME:CET
DTSTART:20251026T010000
END:STANDARD
END:VTIMEZONE
BEGIN:VEVENT
DTSTART;VALUE=DATE:20250929
DTEND;VALUE=DATE:20250930
DTSTAMP:20260421T030138
CREATED:20250922T102354Z
LAST-MODIFIED:20250922T141514Z
UID:33069-1759104000-1759190399@www.htl-zeltweg.at
SUMMARY:Exkursion Baustelle Aichdorf - 5AHBTH und 5BHBTB - WO/RIS
DESCRIPTION:
URL:https://www.htl-zeltweg.at/termine/exkursion-baustelle-aichdorf-5ahbth-und-5bhbtb-wo-ris/
END:VEVENT
BEGIN:VEVENT
DTSTART;VALUE=DATE:20240209
DTEND;VALUE=DATE:20240210
DTSTAMP:20260421T030138
CREATED:20240108T160235Z
LAST-MODIFIED:20240108T182806Z
UID:24707-1707436800-1707523199@www.htl-zeltweg.at
SUMMARY:Notenschluss 12 Uhr
DESCRIPTION:
URL:https://www.htl-zeltweg.at/termine/notenschluss-12-uhr/
END:VEVENT
BEGIN:VEVENT
DTSTART;VALUE=DATE:20240209
DTEND;VALUE=DATE:20240210
DTSTAMP:20260421T030138
CREATED:20240115T103837Z
LAST-MODIFIED:20240115T103837Z
UID:24809-1707436800-1707523199@www.htl-zeltweg.at
SUMMARY:Snow-Volleyball-Turnier\, Kreischberg - 4AHBTH\, SM
DESCRIPTION:
URL:https://www.htl-zeltweg.at/termine/snow-volleyball-turnier-kreischberg-4ahbth-sm/
END:VEVENT
BEGIN:VEVENT
DTSTART;TZID=Europe/Vienna:20240209T090000
DTEND;TZID=Europe/Vienna:20240209T130000
DTSTAMP:20260421T030138
CREATED:20240205T075216Z
LAST-MODIFIED:20240205T084324Z
UID:25222-1707469200-1707483600@www.htl-zeltweg.at
SUMMARY:90 Jahre Austrofaschismus\, Leoben - 4AHBTH\, 4BHBTB - LG
DESCRIPTION:
URL:https://www.htl-zeltweg.at/termine/90-jahre-austrofaschismus-leoben-4ahbth-4bhbtb-lg/
END:VEVENT
END:VCALENDAR