BEGIN:VCALENDAR
VERSION:2.0
PRODID:-//HTL Zeltweg - ECPv6.4.0.1//NONSGML v1.0//EN
CALSCALE:GREGORIAN
METHOD:PUBLISH
X-WR-CALNAME:HTL Zeltweg
X-ORIGINAL-URL:https://www.htl-zeltweg.at
X-WR-CALDESC:Veranstaltungen für HTL Zeltweg
REFRESH-INTERVAL;VALUE=DURATION:PT1H
X-Robots-Tag:noindex
X-PUBLISHED-TTL:PT1H
BEGIN:VTIMEZONE
TZID:Europe/Vienna
BEGIN:DAYLIGHT
TZOFFSETFROM:+0100
TZOFFSETTO:+0200
TZNAME:CEST
DTSTART:20240331T010000
END:DAYLIGHT
BEGIN:STANDARD
TZOFFSETFROM:+0200
TZOFFSETTO:+0100
TZNAME:CET
DTSTART:20241027T010000
END:STANDARD
BEGIN:DAYLIGHT
TZOFFSETFROM:+0100
TZOFFSETTO:+0200
TZNAME:CEST
DTSTART:20250330T010000
END:DAYLIGHT
BEGIN:STANDARD
TZOFFSETFROM:+0200
TZOFFSETTO:+0100
TZNAME:CET
DTSTART:20251026T010000
END:STANDARD
END:VTIMEZONE
BEGIN:VEVENT
DTSTART;VALUE=DATE:20250929
DTEND;VALUE=DATE:20250930
DTSTAMP:20260421T011206
CREATED:20250922T102354Z
LAST-MODIFIED:20250922T141514Z
UID:33069-1759104000-1759190399@www.htl-zeltweg.at
SUMMARY:Exkursion Baustelle Aichdorf - 5AHBTH und 5BHBTB - WO/RIS
DESCRIPTION:
URL:https://www.htl-zeltweg.at/termine/exkursion-baustelle-aichdorf-5ahbth-und-5bhbtb-wo-ris/
END:VEVENT
BEGIN:VEVENT
DTSTART;VALUE=DATE:20240226
DTEND;VALUE=DATE:20240302
DTSTAMP:20260421T011207
CREATED:20231123T103001Z
LAST-MODIFIED:20231123T112349Z
UID:23956-1708905600-1709337599@www.htl-zeltweg.at
SUMMARY:Semesterprüfungen: 1. Termin – Sommersemester
DESCRIPTION:
URL:https://www.htl-zeltweg.at/termine/semesterpruefungen-1-termin-sommersemester-5/
END:VEVENT
BEGIN:VEVENT
DTSTART;VALUE=DATE:20240228
DTEND;VALUE=DATE:20240229
DTSTAMP:20260421T011207
CREATED:20230921T121015Z
LAST-MODIFIED:20230921T123757Z
UID:22728-1709078400-1709164799@www.htl-zeltweg.at
SUMMARY:4AFMBM: Sem.prüfungen - Zulassung zur AP
DESCRIPTION:
URL:https://www.htl-zeltweg.at/termine/4afmbm-sem-pruefungen-zulassung-zur-ap/
END:VEVENT
BEGIN:VEVENT
DTSTART;TZID=Europe/Vienna:20240228T143000
DTEND;TZID=Europe/Vienna:20240228T180000
DTSTAMP:20260421T011207
CREATED:20240224T220604Z
LAST-MODIFIED:20240224T220810Z
UID:25814-1709130600-1709143200@www.htl-zeltweg.at
SUMMARY:Enquete zum Thema Kinderschutz
DESCRIPTION:
URL:https://www.htl-zeltweg.at/termine/enquete-zum-thema-kinderschutz/
LOCATION:Veranstaltungsraum
END:VEVENT
END:VCALENDAR