BEGIN:VCALENDAR
VERSION:2.0
PRODID:-//HTL Zeltweg - ECPv6.4.0.1//NONSGML v1.0//EN
CALSCALE:GREGORIAN
METHOD:PUBLISH
X-WR-CALNAME:HTL Zeltweg
X-ORIGINAL-URL:https://www.htl-zeltweg.at
X-WR-CALDESC:Veranstaltungen für HTL Zeltweg
REFRESH-INTERVAL;VALUE=DURATION:PT1H
X-Robots-Tag:noindex
X-PUBLISHED-TTL:PT1H
BEGIN:VTIMEZONE
TZID:Europe/Vienna
BEGIN:DAYLIGHT
TZOFFSETFROM:+0100
TZOFFSETTO:+0200
TZNAME:CEST
DTSTART:20240331T010000
END:DAYLIGHT
BEGIN:STANDARD
TZOFFSETFROM:+0200
TZOFFSETTO:+0100
TZNAME:CET
DTSTART:20241027T010000
END:STANDARD
BEGIN:DAYLIGHT
TZOFFSETFROM:+0100
TZOFFSETTO:+0200
TZNAME:CEST
DTSTART:20250330T010000
END:DAYLIGHT
BEGIN:STANDARD
TZOFFSETFROM:+0200
TZOFFSETTO:+0100
TZNAME:CET
DTSTART:20251026T010000
END:STANDARD
END:VTIMEZONE
BEGIN:VEVENT
DTSTART;VALUE=DATE:20250929
DTEND;VALUE=DATE:20250930
DTSTAMP:20260421T062909
CREATED:20250922T102354Z
LAST-MODIFIED:20250922T141514Z
UID:33069-1759104000-1759190399@www.htl-zeltweg.at
SUMMARY:Exkursion Baustelle Aichdorf - 5AHBTH und 5BHBTB - WO/RIS
DESCRIPTION:
URL:https://www.htl-zeltweg.at/termine/exkursion-baustelle-aichdorf-5ahbth-und-5bhbtb-wo-ris/
END:VEVENT
BEGIN:VEVENT
DTSTART;VALUE=DATE:20240320
DTEND;VALUE=DATE:20240406
DTSTAMP:20260421T062909
CREATED:20231123T112046Z
LAST-MODIFIED:20231123T112046Z
UID:23964-1710892800-1712361599@www.htl-zeltweg.at
SUMMARY:Anmeldezeitraum Semesterprüfungen - 2. Termin SS
DESCRIPTION:
URL:https://www.htl-zeltweg.at/termine/anmeldezeitraum-semesterpruefungen-2-termin-ss/
END:VEVENT
BEGIN:VEVENT
DTSTART;TZID=Europe/Vienna:20240405T075000
DTEND;TZID=Europe/Vienna:20240405T103500
DTSTAMP:20260421T062909
CREATED:20240403T095641Z
LAST-MODIFIED:20240403T095642Z
UID:26567-1712303400-1712313300@www.htl-zeltweg.at
SUMMARY:Europatag in der HTL Zeltweg - 4AHMBR\, 4BHMBR\, 4AHBTH\, 4BHBTB - LG
DESCRIPTION:
URL:https://www.htl-zeltweg.at/termine/europatag-in-der-htl-zeltweg-4ahmbr-4bhmbr-4ahbth-4bhbtb-lg/
END:VEVENT
BEGIN:VEVENT
DTSTART;TZID=Europe/Vienna:20240405T120000
DTEND;TZID=Europe/Vienna:20240405T143000
DTSTAMP:20260421T062909
CREATED:20240402T105628Z
LAST-MODIFIED:20240402T105628Z
UID:26543-1712318400-1712327400@www.htl-zeltweg.at
SUMMARY:Vortrag und Workshop in der Schule - 3CHMBR\, 4CHMBR
DESCRIPTION:
URL:https://www.htl-zeltweg.at/termine/vortrag-und-workshop-in-der-schule-3chmbr-4chmbr/
END:VEVENT
END:VCALENDAR