BEGIN:VCALENDAR
VERSION:2.0
PRODID:-//HTL Zeltweg - ECPv6.4.0.1//NONSGML v1.0//EN
CALSCALE:GREGORIAN
METHOD:PUBLISH
X-WR-CALNAME:HTL Zeltweg
X-ORIGINAL-URL:https://www.htl-zeltweg.at
X-WR-CALDESC:Veranstaltungen für HTL Zeltweg
REFRESH-INTERVAL;VALUE=DURATION:PT1H
X-Robots-Tag:noindex
X-PUBLISHED-TTL:PT1H
BEGIN:VTIMEZONE
TZID:Europe/Vienna
BEGIN:DAYLIGHT
TZOFFSETFROM:+0100
TZOFFSETTO:+0200
TZNAME:CEST
DTSTART:20240331T010000
END:DAYLIGHT
BEGIN:STANDARD
TZOFFSETFROM:+0200
TZOFFSETTO:+0100
TZNAME:CET
DTSTART:20241027T010000
END:STANDARD
BEGIN:DAYLIGHT
TZOFFSETFROM:+0100
TZOFFSETTO:+0200
TZNAME:CEST
DTSTART:20250330T010000
END:DAYLIGHT
BEGIN:STANDARD
TZOFFSETFROM:+0200
TZOFFSETTO:+0100
TZNAME:CET
DTSTART:20251026T010000
END:STANDARD
END:VTIMEZONE
BEGIN:VEVENT
DTSTART;VALUE=DATE:20250929
DTEND;VALUE=DATE:20250930
DTSTAMP:20260421T062905
CREATED:20250922T102354Z
LAST-MODIFIED:20250922T141514Z
UID:33069-1759104000-1759190399@www.htl-zeltweg.at
SUMMARY:Exkursion Baustelle Aichdorf - 5AHBTH und 5BHBTB - WO/RIS
DESCRIPTION:
URL:https://www.htl-zeltweg.at/termine/exkursion-baustelle-aichdorf-5ahbth-und-5bhbtb-wo-ris/
END:VEVENT
BEGIN:VEVENT
DTSTART;VALUE=DATE:20240415
DTEND;VALUE=DATE:20240420
DTSTAMP:20260421T062905
CREATED:20240403T101130Z
LAST-MODIFIED:20240403T101130Z
UID:26571-1713139200-1713571199@www.htl-zeltweg.at
SUMMARY:Barcelona\, Abschlussexkursion - 4CHMBR - KB\, NE
DESCRIPTION:
URL:https://www.htl-zeltweg.at/termine/barcelona-abschlussexkursion-4chmbr-kb-ne/
END:VEVENT
BEGIN:VEVENT
DTSTART;VALUE=DATE:20240419
DTEND;VALUE=DATE:20240420
DTSTAMP:20260421T062905
CREATED:20230921T121552Z
LAST-MODIFIED:20240327T134758Z
UID:22738-1713484800-1713571199@www.htl-zeltweg.at
SUMMARY:Notenkonferenz der 5. Jahrgänge (10. Semester)
DESCRIPTION:
URL:https://www.htl-zeltweg.at/termine/notenkonferenz-der-5-jahrgaenge-10-semester-notenschluss-17-uhr/
END:VEVENT
BEGIN:VEVENT
DTSTART;TZID=Europe/Vienna:20240419T075000
DTEND;TZID=Europe/Vienna:20240419T140000
DTSTAMP:20260421T062905
CREATED:20240412T105921Z
LAST-MODIFIED:20240412T105922Z
UID:26847-1713513000-1713535200@www.htl-zeltweg.at
SUMMARY:Exkursion Wildbach- und Lawinenverbauung nach Scheifling - 4BHBTB - SU\, SG
DESCRIPTION:
URL:https://www.htl-zeltweg.at/termine/exkursion-wildbach-und-lawinenverbauung-nach-scheifling-4bhbtb-su-sg/
END:VEVENT
END:VCALENDAR