BEGIN:VCALENDAR
VERSION:2.0
PRODID:-//HTL Zeltweg - ECPv6.4.0.1//NONSGML v1.0//EN
CALSCALE:GREGORIAN
METHOD:PUBLISH
X-ORIGINAL-URL:https://www.htl-zeltweg.at
X-WR-CALDESC:Veranstaltungen für HTL Zeltweg
REFRESH-INTERVAL;VALUE=DURATION:PT1H
X-Robots-Tag:noindex
X-PUBLISHED-TTL:PT1H
BEGIN:VTIMEZONE
TZID:Europe/Vienna
BEGIN:DAYLIGHT
TZOFFSETFROM:+0100
TZOFFSETTO:+0200
TZNAME:CEST
DTSTART:20210328T010000
END:DAYLIGHT
BEGIN:STANDARD
TZOFFSETFROM:+0200
TZOFFSETTO:+0100
TZNAME:CET
DTSTART:20211031T010000
END:STANDARD
BEGIN:DAYLIGHT
TZOFFSETFROM:+0100
TZOFFSETTO:+0200
TZNAME:CEST
DTSTART:20220327T010000
END:DAYLIGHT
BEGIN:STANDARD
TZOFFSETFROM:+0200
TZOFFSETTO:+0100
TZNAME:CET
DTSTART:20221030T010000
END:STANDARD
BEGIN:DAYLIGHT
TZOFFSETFROM:+0100
TZOFFSETTO:+0200
TZNAME:CEST
DTSTART:20230326T010000
END:DAYLIGHT
BEGIN:STANDARD
TZOFFSETFROM:+0200
TZOFFSETTO:+0100
TZNAME:CET
DTSTART:20231029T010000
END:STANDARD
BEGIN:DAYLIGHT
TZOFFSETFROM:+0100
TZOFFSETTO:+0200
TZNAME:CEST
DTSTART:20240331T010000
END:DAYLIGHT
BEGIN:STANDARD
TZOFFSETFROM:+0200
TZOFFSETTO:+0100
TZNAME:CET
DTSTART:20241027T010000
END:STANDARD
BEGIN:DAYLIGHT
TZOFFSETFROM:+0100
TZOFFSETTO:+0200
TZNAME:CEST
DTSTART:20250330T010000
END:DAYLIGHT
BEGIN:STANDARD
TZOFFSETFROM:+0200
TZOFFSETTO:+0100
TZNAME:CET
DTSTART:20251026T010000
END:STANDARD
END:VTIMEZONE
BEGIN:VEVENT
DTSTART;VALUE=DATE:20250929
DTEND;VALUE=DATE:20250930
DTSTAMP:20260421T031251
CREATED:20250922T102354Z
LAST-MODIFIED:20250922T141514Z
UID:33069-1759104000-1759190399@www.htl-zeltweg.at
SUMMARY:Exkursion Baustelle Aichdorf - 5AHBTH und 5BHBTB - WO/RIS
DESCRIPTION:
URL:https://www.htl-zeltweg.at/termine/exkursion-baustelle-aichdorf-5ahbth-und-5bhbtb-wo-ris/
END:VEVENT
BEGIN:VEVENT
DTSTART;VALUE=DATE:20210926
DTEND;VALUE=DATE:20211002
DTSTAMP:20260421T031251
CREATED:20210922T112350Z
LAST-MODIFIED:20210922T112351Z
UID:13677-1632614400-1633132799@www.htl-zeltweg.at
SUMMARY:Wienwoche 3AHBTH/3YHBTH/4AHBTH/4YHBTB
DESCRIPTION:
URL:https://www.htl-zeltweg.at/termine/wienwoche-3ahbth-3yhbth-4ahbth-4yhbtb/
END:VEVENT
BEGIN:VEVENT
DTSTART;VALUE=DATE:20210927
DTEND;VALUE=DATE:20211002
DTSTAMP:20260421T031251
CREATED:20210714T093049Z
LAST-MODIFIED:20210715T100046Z
UID:13334-1632700800-1633132799@www.htl-zeltweg.at
SUMMARY:Semesterprüfungen: 1. Termin Wintersemester
DESCRIPTION:
URL:https://www.htl-zeltweg.at/termine/semesterpruefungen-1-termin-wintersemester-4/
END:VEVENT
BEGIN:VEVENT
DTSTART;VALUE=DATE:20210927
DTEND;VALUE=DATE:20211002
DTSTAMP:20260421T031251
CREATED:20210927T124725Z
LAST-MODIFIED:20210927T124726Z
UID:13690-1632700800-1633132799@www.htl-zeltweg.at
SUMMARY:Abschlussexkursion Innsbruck 5YHBTB
DESCRIPTION:
URL:https://www.htl-zeltweg.at/termine/abschlussexkursion-innsbruck-5yhbtb/
END:VEVENT
BEGIN:VEVENT
DTSTART;TZID=Europe/Vienna:20211006T170000
DTEND;TZID=Europe/Vienna:20211006T190000
DTSTAMP:20260421T031251
CREATED:20210928T074530Z
LAST-MODIFIED:20210928T084540Z
UID:13693-1633539600-1633546800@www.htl-zeltweg.at
SUMMARY:Elternabend für die ersten Jahrgänge in der HTL Zeltweg
DESCRIPTION:
URL:https://www.htl-zeltweg.at/termine/elternabend-fuer-die-ersten-jahrgaenge/
END:VEVENT
BEGIN:VEVENT
DTSTART;VALUE=DATE:20211011
DTEND;VALUE=DATE:20211014
DTSTAMP:20260421T031251
CREATED:20210930T095249Z
LAST-MODIFIED:20210930T095250Z
UID:13714-1633910400-1634169599@www.htl-zeltweg.at
SUMMARY:Aktualisierung der Schüler-Edu-Karten: 2. bis 5. Jahrgänge
DESCRIPTION:
URL:https://www.htl-zeltweg.at/termine/aktualisierung-der-schueler-edu-karten-2-bis-5-jahrgaenge/
END:VEVENT
BEGIN:VEVENT
DTSTART;TZID=Europe/Vienna:20211014T170000
DTEND;TZID=Europe/Vienna:20211014T190000
DTSTAMP:20260421T031251
CREATED:20210928T084627Z
LAST-MODIFIED:20210928T084656Z
UID:13696-1634230800-1634238000@www.htl-zeltweg.at
SUMMARY:Elternabend für die 1CHMBR in der HTL Trieben
DESCRIPTION:
URL:https://www.htl-zeltweg.at/termine/elternabend-fuer-die-ersten-jahrgaenge-in-der-htl-trieben/
END:VEVENT
BEGIN:VEVENT
DTSTART;VALUE=DATE:20211015
DTEND;VALUE=DATE:20211016
DTSTAMP:20260421T031251
CREATED:20210617T070403Z
LAST-MODIFIED:20210617T070403Z
UID:13057-1634256000-1634342399@www.htl-zeltweg.at
SUMMARY:Reife- und Diplomprüfung Herbsttermin mündl. Kompensationsprüfungen
DESCRIPTION:
URL:https://www.htl-zeltweg.at/termine/reife-und-diplompruefung-herbsttermin-muendl-kompensationspruefungen/
END:VEVENT
BEGIN:VEVENT
DTSTART;TZID=Europe/Vienna:20211019T083000
DTEND;TZID=Europe/Vienna:20211019T163000
DTSTAMP:20260421T031251
CREATED:20211014T131630Z
LAST-MODIFIED:20211014T131630Z
UID:13845-1634632200-1634661000@www.htl-zeltweg.at
SUMMARY:Museumsbesuch Graz 2BHBTB/4BHMBT
DESCRIPTION:
URL:https://www.htl-zeltweg.at/termine/museumsbesuch-graz-2bhbtb-4bhmbt/
END:VEVENT
BEGIN:VEVENT
DTSTART;VALUE=DATE:20211020
DTEND;VALUE=DATE:20211023
DTSTAMP:20260421T031251
CREATED:20211014T131458Z
LAST-MODIFIED:20211014T131458Z
UID:13843-1634688000-1634947199@www.htl-zeltweg.at
SUMMARY:Fußwallfahrt St. Lambrecht 4AHMBT
DESCRIPTION:
URL:https://www.htl-zeltweg.at/termine/fusswallfahrt-st-lambrecht-4ahmbt/
END:VEVENT
BEGIN:VEVENT
DTSTART;VALUE=DATE:20211021
DTEND;VALUE=DATE:20211022
DTSTAMP:20260421T031251
CREATED:20210806T091312Z
LAST-MODIFIED:20210806T091312Z
UID:13454-1634774400-1634860799@www.htl-zeltweg.at
SUMMARY:Fototermin für die 2. bis 5. Jahrgänge
DESCRIPTION:
URL:https://www.htl-zeltweg.at/termine/fototermin-fuer-die-2-bis-5-jahrgaenge-2/
END:VEVENT
BEGIN:VEVENT
DTSTART;VALUE=DATE:20211022
DTEND;VALUE=DATE:20211023
DTSTAMP:20260421T031251
CREATED:20210806T091350Z
LAST-MODIFIED:20210806T091351Z
UID:13456-1634860800-1634947199@www.htl-zeltweg.at
SUMMARY:Fototermin für die 2. bis 5. Jahrgänge in der HTL Trieben
DESCRIPTION:
URL:https://www.htl-zeltweg.at/termine/fototermin-fuer-die-2-bis-5-jahrgaenge-in-der-htl-trieben/
END:VEVENT
BEGIN:VEVENT
DTSTART;VALUE=DATE:20211025
DTEND;VALUE=DATE:20211026
DTSTAMP:20260421T031251
CREATED:20210714T093703Z
LAST-MODIFIED:20210714T093704Z
UID:13344-1635120000-1635206399@www.htl-zeltweg.at
SUMMARY:schulautonom frei (lt. SGA-Beschluss)
DESCRIPTION:
URL:https://www.htl-zeltweg.at/termine/schulautonom-frei-lt-sga-beschluss-4/
END:VEVENT
BEGIN:VEVENT
DTSTART;VALUE=DATE:20211026
DTEND;VALUE=DATE:20211103
DTSTAMP:20260421T031251
CREATED:20210617T071613Z
LAST-MODIFIED:20210617T071613Z
UID:13068-1635206400-1635897599@www.htl-zeltweg.at
SUMMARY:Herbstferien
DESCRIPTION:
URL:https://www.htl-zeltweg.at/termine/herbstferien-2/
END:VEVENT
END:VCALENDAR