BEGIN:VCALENDAR
VERSION:2.0
PRODID:-//HTL Zeltweg - ECPv6.4.0.1//NONSGML v1.0//EN
CALSCALE:GREGORIAN
METHOD:PUBLISH
X-WR-CALNAME:HTL Zeltweg
X-ORIGINAL-URL:https://www.htl-zeltweg.at
X-WR-CALDESC:Veranstaltungen für HTL Zeltweg
REFRESH-INTERVAL;VALUE=DURATION:PT1H
X-Robots-Tag:noindex
X-PUBLISHED-TTL:PT1H
BEGIN:VTIMEZONE
TZID:Europe/Vienna
BEGIN:DAYLIGHT
TZOFFSETFROM:+0100
TZOFFSETTO:+0200
TZNAME:CEST
DTSTART:20210328T010000
END:DAYLIGHT
BEGIN:STANDARD
TZOFFSETFROM:+0200
TZOFFSETTO:+0100
TZNAME:CET
DTSTART:20211031T010000
END:STANDARD
BEGIN:DAYLIGHT
TZOFFSETFROM:+0100
TZOFFSETTO:+0200
TZNAME:CEST
DTSTART:20220327T010000
END:DAYLIGHT
BEGIN:STANDARD
TZOFFSETFROM:+0200
TZOFFSETTO:+0100
TZNAME:CET
DTSTART:20221030T010000
END:STANDARD
BEGIN:DAYLIGHT
TZOFFSETFROM:+0100
TZOFFSETTO:+0200
TZNAME:CEST
DTSTART:20230326T010000
END:DAYLIGHT
BEGIN:STANDARD
TZOFFSETFROM:+0200
TZOFFSETTO:+0100
TZNAME:CET
DTSTART:20231029T010000
END:STANDARD
BEGIN:DAYLIGHT
TZOFFSETFROM:+0100
TZOFFSETTO:+0200
TZNAME:CEST
DTSTART:20240331T010000
END:DAYLIGHT
BEGIN:STANDARD
TZOFFSETFROM:+0200
TZOFFSETTO:+0100
TZNAME:CET
DTSTART:20241027T010000
END:STANDARD
BEGIN:DAYLIGHT
TZOFFSETFROM:+0100
TZOFFSETTO:+0200
TZNAME:CEST
DTSTART:20250330T010000
END:DAYLIGHT
BEGIN:STANDARD
TZOFFSETFROM:+0200
TZOFFSETTO:+0100
TZNAME:CET
DTSTART:20251026T010000
END:STANDARD
END:VTIMEZONE
BEGIN:VEVENT
DTSTART;VALUE=DATE:20250929
DTEND;VALUE=DATE:20250930
DTSTAMP:20260421T012427
CREATED:20250922T102354Z
LAST-MODIFIED:20250922T141514Z
UID:33069-1759104000-1759190399@www.htl-zeltweg.at
SUMMARY:Exkursion Baustelle Aichdorf - 5AHBTH und 5BHBTB - WO/RIS
DESCRIPTION:
URL:https://www.htl-zeltweg.at/termine/exkursion-baustelle-aichdorf-5ahbth-und-5bhbtb-wo-ris/
END:VEVENT
BEGIN:VEVENT
DTSTART;VALUE=DATE:20211224
DTEND;VALUE=DATE:20220107
DTSTAMP:20260421T012427
CREATED:20210617T071728Z
LAST-MODIFIED:20210714T094713Z
UID:13070-1640304000-1641513599@www.htl-zeltweg.at
SUMMARY:Weihnachtsferien
DESCRIPTION:
URL:https://www.htl-zeltweg.at/termine/weihnachtsferien-3/
END:VEVENT
BEGIN:VEVENT
DTSTART;VALUE=DATE:20220107
DTEND;VALUE=DATE:20220108
DTSTAMP:20260421T012427
CREATED:20210714T094752Z
LAST-MODIFIED:20210714T094752Z
UID:13362-1641513600-1641599999@www.htl-zeltweg.at
SUMMARY:schulautonom frei lt. SGA-Beschluss
DESCRIPTION:
URL:https://www.htl-zeltweg.at/termine/schulautonom-frei-lt-sga-beschluss-5/
END:VEVENT
BEGIN:VEVENT
DTSTART;VALUE=DATE:20220110
DTEND;VALUE=DATE:20220111
DTSTAMP:20260421T012427
CREATED:20210714T095959Z
LAST-MODIFIED:20210715T095921Z
UID:13364-1641772800-1641859199@www.htl-zeltweg.at
SUMMARY:Anmeldeschluss Semesterprüfungen 3. Termin Wintersemester
DESCRIPTION:
URL:https://www.htl-zeltweg.at/termine/anmeldeschluss-semesterpruefungen-3-termin-wintersemester/
END:VEVENT
BEGIN:VEVENT
DTSTART;VALUE=DATE:20220111
DTEND;VALUE=DATE:20220112
DTSTAMP:20260421T012427
CREATED:20210714T100140Z
LAST-MODIFIED:20210714T100140Z
UID:13366-1641859200-1641945599@www.htl-zeltweg.at
SUMMARY:Abgabetermin DA\, RDP Wintertermin 2020/2021\, 12 Uhr
DESCRIPTION:
URL:https://www.htl-zeltweg.at/termine/abgabetermin-da-rdp-wintertermin-2020-2021-12-uhr/
END:VEVENT
BEGIN:VEVENT
DTSTART;VALUE=DATE:20220112
DTEND;VALUE=DATE:20220113
DTSTAMP:20260421T012427
CREATED:20210617T074910Z
LAST-MODIFIED:20210714T100533Z
UID:13088-1641945600-1642031999@www.htl-zeltweg.at
SUMMARY:Reife- und Diplomprüfung Wintertermin Angewandte Mathematik\, ab 8.30 Uhr
DESCRIPTION:
URL:https://www.htl-zeltweg.at/termine/reife-und-diplompruefung-wintertermin-angewandte-mathematik-4/
END:VEVENT
BEGIN:VEVENT
DTSTART;VALUE=DATE:20220113
DTEND;VALUE=DATE:20220114
DTSTAMP:20260421T012427
CREATED:20210617T070442Z
LAST-MODIFIED:20210714T100512Z
UID:13060-1642032000-1642118399@www.htl-zeltweg.at
SUMMARY:Reife- und Diplomprüfung Wintertermin Deutsch\, ab 8.30 Uhr
DESCRIPTION:
URL:https://www.htl-zeltweg.at/termine/reife-und-diplompruefung-wintertermin-deutsch-3/
END:VEVENT
BEGIN:VEVENT
DTSTART;VALUE=DATE:20220114
DTEND;VALUE=DATE:20220115
DTSTAMP:20260421T012427
CREATED:20210715T101240Z
LAST-MODIFIED:20210715T101240Z
UID:13406-1642118400-1642204799@www.htl-zeltweg.at
SUMMARY:Reife- und Diplomprüfung Wintertermin Fachtheorie\, ab 8.30 Uhr
DESCRIPTION:
URL:https://www.htl-zeltweg.at/termine/reife-und-diplompruefung-wintertermin-fachtheorie-ab-8-30-uhr-2/
END:VEVENT
BEGIN:VEVENT
DTSTART;VALUE=DATE:20220117
DTEND;VALUE=DATE:20220122
DTSTAMP:20260421T012427
CREATED:20210714T100652Z
LAST-MODIFIED:20210714T100652Z
UID:13373-1642377600-1642809599@www.htl-zeltweg.at
SUMMARY:Semesterprüfungen: 3. Termin Wintersemester
DESCRIPTION:
URL:https://www.htl-zeltweg.at/termine/semesterpruefungen-3-termin-wintersemester-3/
END:VEVENT
END:VCALENDAR