BEGIN:VCALENDAR
VERSION:2.0
PRODID:-//HTL Zeltweg - ECPv6.4.0.1//NONSGML v1.0//EN
CALSCALE:GREGORIAN
METHOD:PUBLISH
X-WR-CALNAME:HTL Zeltweg
X-ORIGINAL-URL:https://www.htl-zeltweg.at
X-WR-CALDESC:Veranstaltungen für HTL Zeltweg
REFRESH-INTERVAL;VALUE=DURATION:PT1H
X-Robots-Tag:noindex
X-PUBLISHED-TTL:PT1H
BEGIN:VTIMEZONE
TZID:Europe/Vienna
BEGIN:DAYLIGHT
TZOFFSETFROM:+0100
TZOFFSETTO:+0200
TZNAME:CEST
DTSTART:20230326T010000
END:DAYLIGHT
BEGIN:STANDARD
TZOFFSETFROM:+0200
TZOFFSETTO:+0100
TZNAME:CET
DTSTART:20231029T010000
END:STANDARD
BEGIN:DAYLIGHT
TZOFFSETFROM:+0100
TZOFFSETTO:+0200
TZNAME:CEST
DTSTART:20240331T010000
END:DAYLIGHT
BEGIN:STANDARD
TZOFFSETFROM:+0200
TZOFFSETTO:+0100
TZNAME:CET
DTSTART:20241027T010000
END:STANDARD
BEGIN:DAYLIGHT
TZOFFSETFROM:+0100
TZOFFSETTO:+0200
TZNAME:CEST
DTSTART:20250330T010000
END:DAYLIGHT
BEGIN:STANDARD
TZOFFSETFROM:+0200
TZOFFSETTO:+0100
TZNAME:CET
DTSTART:20251026T010000
END:STANDARD
END:VTIMEZONE
BEGIN:VEVENT
DTSTART;VALUE=DATE:20250929
DTEND;VALUE=DATE:20250930
DTSTAMP:20260421T081713
CREATED:20250922T102354Z
LAST-MODIFIED:20250922T141514Z
UID:33069-1759104000-1759190399@www.htl-zeltweg.at
SUMMARY:Exkursion Baustelle Aichdorf - 5AHBTH und 5BHBTB - WO/RIS
DESCRIPTION:
URL:https://www.htl-zeltweg.at/termine/exkursion-baustelle-aichdorf-5ahbth-und-5bhbtb-wo-ris/
END:VEVENT
BEGIN:VEVENT
DTSTART;VALUE=DATE:20230502
DTEND;VALUE=DATE:20230503
DTSTAMP:20260421T081714
CREATED:20230426T170318Z
LAST-MODIFIED:20230426T170319Z
UID:20638-1682985600-1683071999@www.htl-zeltweg.at
SUMMARY:1. Autofreier Tag der HTL Zeltweg
DESCRIPTION:
URL:https://www.htl-zeltweg.at/termine/1-autofreier-tag-der-htl-zeltweg/
END:VEVENT
BEGIN:VEVENT
DTSTART;VALUE=DATE:20230503
DTEND;VALUE=DATE:20230504
DTSTAMP:20260421T081714
CREATED:20221104T073635Z
LAST-MODIFIED:20221104T073636Z
UID:17653-1683072000-1683158399@www.htl-zeltweg.at
SUMMARY:Reife- und Diplomprüfung Haupttermin Angewandte Mathematik\, ab 8.30 Uhr
DESCRIPTION:
URL:https://www.htl-zeltweg.at/termine/reife-und-diplompruefung-haupttermin-angewandte-mathematik-ab-8-30-uhr-2/
END:VEVENT
BEGIN:VEVENT
DTSTART;TZID=Europe/Vienna:20230503T140000
DTEND;TZID=Europe/Vienna:20230503T180000
DTSTAMP:20260421T081714
CREATED:20230426T172309Z
LAST-MODIFIED:20230426T172309Z
UID:20642-1683122400-1683136800@www.htl-zeltweg.at
SUMMARY:Eternitwettbewerb 2023
DESCRIPTION:
URL:https://www.htl-zeltweg.at/termine/eternitwettbewerb-2023/
END:VEVENT
BEGIN:VEVENT
DTSTART;VALUE=DATE:20230505
DTEND;VALUE=DATE:20230506
DTSTAMP:20260421T081714
CREATED:20221104T073729Z
LAST-MODIFIED:20221104T073730Z
UID:17655-1683244800-1683331199@www.htl-zeltweg.at
SUMMARY:Reife- und Diplomprüfung Haupttermin Deutsch\, ab 8.30 Uhr
DESCRIPTION:
URL:https://www.htl-zeltweg.at/termine/reife-und-diplompruefung-haupttermin-deutsch-ab-8-30-uhr-2/
END:VEVENT
BEGIN:VEVENT
DTSTART;TZID=Europe/Vienna:20230508T084000
DTEND;TZID=Europe/Vienna:20230508T164000
DTSTAMP:20260421T081714
CREATED:20230320T110435Z
LAST-MODIFIED:20230320T111214Z
UID:20084-1683535200-1683564000@www.htl-zeltweg.at
SUMMARY:VA Erzberg + ZAB Erzberg - 4AHBTH\, 4YHBTH - SU\, EW
DESCRIPTION:
URL:https://www.htl-zeltweg.at/termine/va-zab-erzberg-4ahbth-4yhbth-su-ew/
END:VEVENT
BEGIN:VEVENT
DTSTART;VALUE=DATE:20230509
DTEND;VALUE=DATE:20230510
DTSTAMP:20260421T081714
CREATED:20221104T074031Z
LAST-MODIFIED:20221104T074031Z
UID:17659-1683590400-1683676799@www.htl-zeltweg.at
SUMMARY:Reife- und Diplomprüfung Haupttermin Englisch\, ab 8.30 Uhr
DESCRIPTION:
URL:https://www.htl-zeltweg.at/termine/reife-und-diplompruefung-haupttermin-englisch-ab-8-30-uhr/
END:VEVENT
BEGIN:VEVENT
DTSTART;TZID=Europe/Vienna:20230510T180000
DTEND;TZID=Europe/Vienna:20230510T193000
DTSTAMP:20260421T081714
CREATED:20230426T131244Z
LAST-MODIFIED:20230426T131244Z
UID:20634-1683741600-1683747000@www.htl-zeltweg.at
SUMMARY:Abendschule Informationsabend
DESCRIPTION:
URL:https://www.htl-zeltweg.at/termine/abendschule-informationsabend/
END:VEVENT
BEGIN:VEVENT
DTSTART;VALUE=DATE:20230511
DTEND;VALUE=DATE:20230512
DTSTAMP:20260421T081714
CREATED:20221108T082850Z
LAST-MODIFIED:20221108T082850Z
UID:17671-1683763200-1683849599@www.htl-zeltweg.at
SUMMARY:Reife- und Diplomprüfung Haupttermin Fachtheorie\, ab 8.30 Uhr
DESCRIPTION:
URL:https://www.htl-zeltweg.at/termine/reife-und-diplompruefung-haupttermin-fachtheorie-ab-8-30-uhr-2/
END:VEVENT
BEGIN:VEVENT
DTSTART;TZID=Europe/Vienna:20230515T075000
DTEND;TZID=Europe/Vienna:20230515T164000
DTSTAMP:20260421T081714
CREATED:20230314T070135Z
LAST-MODIFIED:20230314T070136Z
UID:19962-1684137000-1684168800@www.htl-zeltweg.at
SUMMARY:Freilichtmuseum Stübing - 2AHBTB\, 2BHBTB - SU\, TH
DESCRIPTION:
URL:https://www.htl-zeltweg.at/termine/freilichtmuseum-stuebing-2ahbtb-2bhbtb-su-th/
END:VEVENT
BEGIN:VEVENT
DTSTART;VALUE=DATE:20230519
DTEND;VALUE=DATE:20230520
DTSTAMP:20260421T081714
CREATED:20230317T131308Z
LAST-MODIFIED:20230317T131308Z
UID:20002-1684454400-1684540799@www.htl-zeltweg.at
SUMMARY:schulautonom frei
DESCRIPTION:
URL:https://www.htl-zeltweg.at/termine/schulautonom-frei-4/
END:VEVENT
BEGIN:VEVENT
DTSTART;TZID=Europe/Vienna:20230522T060000
DTEND;TZID=Europe/Vienna:20230522T210000
DTSTAMP:20260421T081714
CREATED:20230421T085836Z
LAST-MODIFIED:20230421T085836Z
UID:20533-1684735200-1684789200@www.htl-zeltweg.at
SUMMARY:Baustellenbesichtigung - Wien - 1YHBTB - LO\, RB
DESCRIPTION:
URL:https://www.htl-zeltweg.at/termine/baustellenbesichtigung-wien-1yhbtb-lo-rb/
END:VEVENT
BEGIN:VEVENT
DTSTART;VALUE=DATE:20230523
DTEND;VALUE=DATE:20230524
DTSTAMP:20260421T081714
CREATED:20230426T130930Z
LAST-MODIFIED:20230426T131058Z
UID:20630-1684800000-1684886399@www.htl-zeltweg.at
SUMMARY:Beurteilungskonferenz der schriftlichen RDP
DESCRIPTION:
URL:https://www.htl-zeltweg.at/termine/beurteilungskonferenz-der-schriftlichen-rdp/
END:VEVENT
BEGIN:VEVENT
DTSTART;TZID=Europe/Vienna:20230523T131000
DTEND;TZID=Europe/Vienna:20230523T133000
DTSTAMP:20260421T081714
CREATED:20230426T130833Z
LAST-MODIFIED:20230426T130834Z
UID:20628-1684847400-1684848600@www.htl-zeltweg.at
SUMMARY:13.10 Uhr - Bekanntgabe der Beurteilungen der schriftlichen RDP
DESCRIPTION:
URL:https://www.htl-zeltweg.at/termine/13-10-uhr-bekanntgabe-der-beurteilungen-der-schriftlichen-rdp/
END:VEVENT
BEGIN:VEVENT
DTSTART;TZID=Europe/Vienna:20230524T073000
DTEND;TZID=Europe/Vienna:20230524T173000
DTSTAMP:20260421T081714
CREATED:20230515T123411Z
LAST-MODIFIED:20230515T184921Z
UID:21006-1684913400-1684949400@www.htl-zeltweg.at
SUMMARY:Swisspearl Vöcklabruck - 4AHBTH\, 4YHBTH - LO\,TI
DESCRIPTION:
URL:https://www.htl-zeltweg.at/termine/swisspearl-voecklabruck-4yhbtb-ti/
END:VEVENT
BEGIN:VEVENT
DTSTART;TZID=Europe/Vienna:20230525T093000
DTEND;TZID=Europe/Vienna:20230525T173000
DTSTAMP:20260421T081714
CREATED:20230313T133800Z
LAST-MODIFIED:20230313T133801Z
UID:19957-1685007000-1685035800@www.htl-zeltweg.at
SUMMARY:Zentrum am Berg/Erzberg - 3AHBTH\, 3BHBTH - SU\, SG
DESCRIPTION:
URL:https://www.htl-zeltweg.at/termine/zentrum-am-berg-erzberg-3ahbth-3bhbth-su-sg/
END:VEVENT
BEGIN:VEVENT
DTSTART;TZID=Europe/Vienna:20230526T080000
DTEND;TZID=Europe/Vienna:20230526T120000
DTSTAMP:20260421T081714
CREATED:20230426T170721Z
LAST-MODIFIED:20230426T170721Z
UID:20640-1685088000-1685102400@www.htl-zeltweg.at
SUMMARY:Kinder HTL Aktionstag 22-23
DESCRIPTION:
URL:https://www.htl-zeltweg.at/termine/kinder-htl-aktionstag-22-23/
END:VEVENT
BEGIN:VEVENT
DTSTART;VALUE=DATE:20230530
DTEND;VALUE=DATE:20230531
DTSTAMP:20260421T081714
CREATED:20230516T083148Z
LAST-MODIFIED:20230516T083149Z
UID:21038-1685404800-1685491199@www.htl-zeltweg.at
SUMMARY:schulautonom frei
DESCRIPTION:
URL:https://www.htl-zeltweg.at/termine/schulautonom-frei-6/
END:VEVENT
BEGIN:VEVENT
DTSTART;VALUE=DATE:20230531
DTEND;VALUE=DATE:20230602
DTSTAMP:20260421T081714
CREATED:20221104T073842Z
LAST-MODIFIED:20221104T073842Z
UID:17657-1685491200-1685663999@www.htl-zeltweg.at
SUMMARY:Reife- und Diplomprüfung Haupttermin mündl. Kompensationsprüfungen
DESCRIPTION:
URL:https://www.htl-zeltweg.at/termine/reife-und-diplompruefung-haupttermin-muendl-kompensationspruefungen-2/
END:VEVENT
BEGIN:VEVENT
DTSTART;TZID=Europe/Vienna:20230531T075000
DTEND;TZID=Europe/Vienna:20230531T110000
DTSTAMP:20260421T081714
CREATED:20230515T105641Z
LAST-MODIFIED:20230515T105642Z
UID:21004-1685519400-1685530800@www.htl-zeltweg.at
SUMMARY:Spendenlauf "Hoffnungsrunde" für die Klassen 1AHMBR\, 1BHMBR\, 1AHBTH und 1YHBTB
DESCRIPTION:
URL:https://www.htl-zeltweg.at/termine/spendenlauf-hoffnungsrunde-fuer-die-klassen-1ahmbr-1bhmbr-1ahbth-und-1yhbtb/
END:VEVENT
BEGIN:VEVENT
DTSTART;TZID=Europe/Vienna:20230531T080000
DTEND;TZID=Europe/Vienna:20230602T170000
DTSTAMP:20260421T081714
CREATED:20230522T054815Z
LAST-MODIFIED:20230522T054815Z
UID:21062-1685520000-1685725200@www.htl-zeltweg.at
SUMMARY:Gurk Wallfahrt - 4YHBTH - GL\, RB
DESCRIPTION:
URL:https://www.htl-zeltweg.at/termine/gurk-wallfahrt-4yhbth-gl-rb/
END:VEVENT
BEGIN:VEVENT
DTSTART;TZID=Europe/Vienna:20230531T083000
DTEND;TZID=Europe/Vienna:20230531T122000
DTSTAMP:20260421T081714
CREATED:20230525T101242Z
LAST-MODIFIED:20230525T101243Z
UID:21100-1685521800-1685535600@www.htl-zeltweg.at
SUMMARY:Klimaschule - OM Knittelfeld - 2AHBTH - KH
DESCRIPTION:
URL:https://www.htl-zeltweg.at/termine/klimaschule-om-knittelfeld-2ahbth-kh/
END:VEVENT
BEGIN:VEVENT
DTSTART;TZID=Europe/Vienna:20230531T103500
DTEND;TZID=Europe/Vienna:20230531T130000
DTSTAMP:20260421T081714
CREATED:20230525T101143Z
LAST-MODIFIED:20230525T101143Z
UID:21097-1685529300-1685538000@www.htl-zeltweg.at
SUMMARY:Klimaschule - OM Knittelfeld - 2BHBTB - KC
DESCRIPTION:
URL:https://www.htl-zeltweg.at/termine/klimaschule-om-knittelfeld-2bhbtb-kc/
END:VEVENT
BEGIN:VEVENT
DTSTART;TZID=Europe/Vienna:20230531T131000
DTEND;TZID=Europe/Vienna:20230531T173000
DTSTAMP:20260421T081714
CREATED:20230515T101903Z
LAST-MODIFIED:20230515T121826Z
UID:21002-1685538600-1685554200@www.htl-zeltweg.at
SUMMARY:Haslerhaus - Holzbau Vorfertigung - 3AHBTH\, 4AHBTH\, 4YHBTH - LO\, BU\, SE
DESCRIPTION:
URL:https://www.htl-zeltweg.at/termine/haslerhaus-holzbau-vorfertigung-3ahbth-4ahbth-4yhbth-lo-bu-se/
END:VEVENT
END:VCALENDAR