BEGIN:VCALENDAR
VERSION:2.0
PRODID:-//HTL Zeltweg - ECPv6.4.0.1//NONSGML v1.0//EN
CALSCALE:GREGORIAN
METHOD:PUBLISH
X-WR-CALNAME:HTL Zeltweg
X-ORIGINAL-URL:https://www.htl-zeltweg.at
X-WR-CALDESC:Veranstaltungen für HTL Zeltweg
REFRESH-INTERVAL;VALUE=DURATION:PT1H
X-Robots-Tag:noindex
X-PUBLISHED-TTL:PT1H
BEGIN:VTIMEZONE
TZID:Europe/Vienna
BEGIN:DAYLIGHT
TZOFFSETFROM:+0100
TZOFFSETTO:+0200
TZNAME:CEST
DTSTART:20230326T010000
END:DAYLIGHT
BEGIN:STANDARD
TZOFFSETFROM:+0200
TZOFFSETTO:+0100
TZNAME:CET
DTSTART:20231029T010000
END:STANDARD
BEGIN:DAYLIGHT
TZOFFSETFROM:+0100
TZOFFSETTO:+0200
TZNAME:CEST
DTSTART:20240331T010000
END:DAYLIGHT
BEGIN:STANDARD
TZOFFSETFROM:+0200
TZOFFSETTO:+0100
TZNAME:CET
DTSTART:20241027T010000
END:STANDARD
BEGIN:DAYLIGHT
TZOFFSETFROM:+0100
TZOFFSETTO:+0200
TZNAME:CEST
DTSTART:20250330T010000
END:DAYLIGHT
BEGIN:STANDARD
TZOFFSETFROM:+0200
TZOFFSETTO:+0100
TZNAME:CET
DTSTART:20251026T010000
END:STANDARD
END:VTIMEZONE
BEGIN:VEVENT
DTSTART;VALUE=DATE:20250929
DTEND;VALUE=DATE:20250930
DTSTAMP:20260421T011446
CREATED:20250922T102354Z
LAST-MODIFIED:20250922T141514Z
UID:33069-1759104000-1759190399@www.htl-zeltweg.at
SUMMARY:Exkursion Baustelle Aichdorf - 5AHBTH und 5BHBTB - WO/RIS
DESCRIPTION:
URL:https://www.htl-zeltweg.at/termine/exkursion-baustelle-aichdorf-5ahbth-und-5bhbtb-wo-ris/
END:VEVENT
BEGIN:VEVENT
DTSTART;VALUE=DATE:20230708
DTEND;VALUE=DATE:20230911
DTSTAMP:20260421T011446
CREATED:20230516T094202Z
LAST-MODIFIED:20230516T094203Z
UID:21040-1688774400-1694390399@www.htl-zeltweg.at
SUMMARY:Sommerferien
DESCRIPTION:
URL:https://www.htl-zeltweg.at/termine/sommerferien-4/
END:VEVENT
BEGIN:VEVENT
DTSTART;TZID=Europe/Vienna:20230904T080000
DTEND;TZID=Europe/Vienna:20230908T112500
DTSTAMP:20260421T011446
CREATED:20230516T080503Z
LAST-MODIFIED:20230516T080504Z
UID:21026-1693814400-1694172300@www.htl-zeltweg.at
SUMMARY:Sommerschule
DESCRIPTION:
URL:https://www.htl-zeltweg.at/termine/sommerschule-3/
END:VEVENT
BEGIN:VEVENT
DTSTART;VALUE=DATE:20230911
DTEND;VALUE=DATE:20230912
DTSTAMP:20260421T011446
CREATED:20230516T080617Z
LAST-MODIFIED:20230714T090253Z
UID:21028-1694390400-1694476799@www.htl-zeltweg.at
SUMMARY:Schulbeginn für alle Klassen um 7.50 Uhr;  Unterricht für die 1. Jahrgänge bis 11.25 Uhr;  Unterricht für die 2.-5. Jahrgänge lt. WebUntis
DESCRIPTION:
URL:https://www.htl-zeltweg.at/termine/schulbeginn-fuer-alle-klassen-um-7-50-uhr-2/
END:VEVENT
BEGIN:VEVENT
DTSTART;VALUE=DATE:20230911
DTEND;VALUE=DATE:20230912
DTSTAMP:20260421T011446
CREATED:20230522T123423Z
LAST-MODIFIED:20230522T123423Z
UID:21071-1694390400-1694476799@www.htl-zeltweg.at
SUMMARY:Start Abendschule (Vorbereitungslehrgang)
DESCRIPTION:
URL:https://www.htl-zeltweg.at/termine/start-abendschule-vorbereitungslehrgang-2/
END:VEVENT
BEGIN:VEVENT
DTSTART;VALUE=DATE:20230911
DTEND;VALUE=DATE:20230913
DTSTAMP:20260421T011446
CREATED:20230516T081930Z
LAST-MODIFIED:20230516T081930Z
UID:21032-1694390400-1694563199@www.htl-zeltweg.at
SUMMARY:Wiederholungs- und Semesterprüfungen
DESCRIPTION:
URL:https://www.htl-zeltweg.at/termine/wiederholungs-und-semesterpruefungen/
END:VEVENT
BEGIN:VEVENT
DTSTART;VALUE=DATE:20230912
DTEND;VALUE=DATE:20230913
DTSTAMP:20260421T011446
CREATED:20230626T130856Z
LAST-MODIFIED:20230626T130857Z
UID:21750-1694476800-1694563199@www.htl-zeltweg.at
SUMMARY:Antragsabgabe für Schüler-/Topticket in der HTL Zeltweg ab 9 Uhr
DESCRIPTION:
URL:https://www.htl-zeltweg.at/termine/antragsabgabe-fuer-schueler-topticket-in-der-htl-zeltweg-ab-9-uhr/
END:VEVENT
BEGIN:VEVENT
DTSTART;TZID=Europe/Vienna:20230912T080000
DTEND;TZID=Europe/Vienna:20230912T083000
DTSTAMP:20260421T011446
CREATED:20230714T090422Z
LAST-MODIFIED:20230714T090422Z
UID:22025-1694505600-1694507400@www.htl-zeltweg.at
SUMMARY:Gottesdienst:  2.-5. Jahrgänge\, anschließend Unterricht lt. WebUntis
DESCRIPTION:
URL:https://www.htl-zeltweg.at/termine/gottesdienst-2-5-jahrgaenge-anschliessend-unterricht-lt-webuntis/
END:VEVENT
BEGIN:VEVENT
DTSTART;TZID=Europe/Vienna:20230912T100000
DTEND;TZID=Europe/Vienna:20230912T103000
DTSTAMP:20260421T011446
CREATED:20230714T090532Z
LAST-MODIFIED:20230714T090533Z
UID:22027-1694512800-1694514600@www.htl-zeltweg.at
SUMMARY:Gottesdienst:  1. Jahrgänge\, anschließend Unterricht bis 11.25 Uhr
DESCRIPTION:
URL:https://www.htl-zeltweg.at/termine/gottesdienst-1-jahrgaenge-anschliessend-unterricht-bis-11-25-uhr-4/
END:VEVENT
BEGIN:VEVENT
DTSTART;VALUE=DATE:20230913
DTEND;VALUE=DATE:20230921
DTSTAMP:20260421T011446
CREATED:20230918T082158Z
LAST-MODIFIED:20230918T082159Z
UID:22581-1694563200-1695254399@www.htl-zeltweg.at
SUMMARY:Anmeldezeitraum Semesterprüfungen - 1. Termin WS
DESCRIPTION:
URL:https://www.htl-zeltweg.at/termine/anmeldezeitraum-semesterpruefungen-1-termin-ws-2/
END:VEVENT
BEGIN:VEVENT
DTSTART;VALUE=DATE:20230915
DTEND;VALUE=DATE:20230916
DTSTAMP:20260421T011446
CREATED:20230515T185516Z
LAST-MODIFIED:20230515T185544Z
UID:21012-1694736000-1694822399@www.htl-zeltweg.at
SUMMARY:Diplomarbeitsabgabe 1.NT - 12 Uhr
DESCRIPTION:
URL:https://www.htl-zeltweg.at/termine/diplomarbeitsabgabe-1-nt-12-uhr/
END:VEVENT
BEGIN:VEVENT
DTSTART;VALUE=DATE:20230915
DTEND;VALUE=DATE:20230916
DTSTAMP:20260421T011446
CREATED:20230714T090629Z
LAST-MODIFIED:20230714T090630Z
UID:22029-1694736000-1694822399@www.htl-zeltweg.at
SUMMARY:Abmeldeschluss Religion\, 12 Uhr
DESCRIPTION:
URL:https://www.htl-zeltweg.at/termine/abmeldeschluss-religion-12-uhr-2/
END:VEVENT
BEGIN:VEVENT
DTSTART;VALUE=DATE:20230918
DTEND;VALUE=DATE:20230919
DTSTAMP:20260421T011446
CREATED:20230515T185646Z
LAST-MODIFIED:20230712T073815Z
UID:21014-1694995200-1695081599@www.htl-zeltweg.at
SUMMARY:Vorgezogene RDP für 5AHMBT\, 5BHMBT\, 5AHBTH und 5YHBTH
DESCRIPTION:
URL:https://www.htl-zeltweg.at/termine/vorgezogene-rdp/
END:VEVENT
BEGIN:VEVENT
DTSTART;VALUE=DATE:20230919
DTEND;VALUE=DATE:20230920
DTSTAMP:20260421T011446
CREATED:20230515T185729Z
LAST-MODIFIED:20230515T185945Z
UID:21016-1695081600-1695167999@www.htl-zeltweg.at
SUMMARY:RDP Mathematik 1.NT
DESCRIPTION:
URL:https://www.htl-zeltweg.at/termine/rdp-mathematik-1-nt/
END:VEVENT
BEGIN:VEVENT
DTSTART;VALUE=DATE:20230919
DTEND;VALUE=DATE:20230920
DTSTAMP:20260421T011446
CREATED:20230712T073856Z
LAST-MODIFIED:20230712T073856Z
UID:22003-1695081600-1695167999@www.htl-zeltweg.at
SUMMARY:Vorgezogene RDP für 5CHMBF
DESCRIPTION:
URL:https://www.htl-zeltweg.at/termine/vorgezogene-rdp-fuer-5chmbf/
END:VEVENT
BEGIN:VEVENT
DTSTART;VALUE=DATE:20230919
DTEND;VALUE=DATE:20230921
DTSTAMP:20260421T011446
CREATED:20230629T072454Z
LAST-MODIFIED:20230629T072455Z
UID:21802-1695081600-1695254399@www.htl-zeltweg.at
SUMMARY:Kennenlerntage auf der Burg Finstergrün: 1AHMBR
DESCRIPTION:
URL:https://www.htl-zeltweg.at/termine/kennenlerntage-auf-der-burg-finstergruen-1ahmbr/
END:VEVENT
BEGIN:VEVENT
DTSTART;VALUE=DATE:20230920
DTEND;VALUE=DATE:20230921
DTSTAMP:20260421T011446
CREATED:20230515T185809Z
LAST-MODIFIED:20230515T185919Z
UID:21018-1695168000-1695254399@www.htl-zeltweg.at
SUMMARY:RDP Deutsch 1.NT
DESCRIPTION:
URL:https://www.htl-zeltweg.at/termine/rdp-deutsch-1-nt/
END:VEVENT
BEGIN:VEVENT
DTSTART;VALUE=DATE:20230922
DTEND;VALUE=DATE:20230923
DTSTAMP:20260421T011446
CREATED:20230515T185849Z
LAST-MODIFIED:20230515T185850Z
UID:21020-1695340800-1695427199@www.htl-zeltweg.at
SUMMARY:RDP Fachtheorie 1.NT
DESCRIPTION:
URL:https://www.htl-zeltweg.at/termine/rdp-fachtheorie-1-nt/
END:VEVENT
BEGIN:VEVENT
DTSTART;VALUE=DATE:20230925
DTEND;VALUE=DATE:20230927
DTSTAMP:20260421T011446
CREATED:20230629T072735Z
LAST-MODIFIED:20230629T072736Z
UID:21804-1695600000-1695772799@www.htl-zeltweg.at
SUMMARY:Kennenlerntage auf der Burg Finstergrün: 1BHMBR und 1AFMBM
DESCRIPTION:
URL:https://www.htl-zeltweg.at/termine/kennenlerntage-auf-der-burg-finstergruen-1bhmbr-und-1afmbm/
END:VEVENT
BEGIN:VEVENT
DTSTART;VALUE=DATE:20230925
DTEND;VALUE=DATE:20230930
DTSTAMP:20260421T011446
CREATED:20230712T060949Z
LAST-MODIFIED:20230712T060951Z
UID:21970-1695600000-1696031999@www.htl-zeltweg.at
SUMMARY:Semesterprüfungen: 1. Termin – Wintersemester
DESCRIPTION:
URL:https://www.htl-zeltweg.at/termine/semesterpruefungen-1-termin-wintersemester-6/
END:VEVENT
BEGIN:VEVENT
DTSTART;VALUE=DATE:20230926
DTEND;VALUE=DATE:20230928
DTSTAMP:20260421T011446
CREATED:20230629T072902Z
LAST-MODIFIED:20230629T072902Z
UID:21807-1695686400-1695859199@www.htl-zeltweg.at
SUMMARY:Kennenlerntage auf der Burg Finstergrün: 1AHBTH und 1YHBTB
DESCRIPTION:
URL:https://www.htl-zeltweg.at/termine/kennenlerntage-auf-der-burg-finstergruen-1ahbth-und-1yhbtb/
END:VEVENT
BEGIN:VEVENT
DTSTART;TZID=Europe/Vienna:20230928T073000
DTEND;TZID=Europe/Vienna:20230928T173000
DTSTAMP:20260421T011446
CREATED:20230925T052519Z
LAST-MODIFIED:20230925T052519Z
UID:22950-1695886200-1695922200@www.htl-zeltweg.at
SUMMARY:Erzberg Sprengung\, Schaubergwerk und Zentrum am Berg - 3AHBTH\, 3BHBTH - SU
DESCRIPTION:
URL:https://www.htl-zeltweg.at/termine/erzberg-sprengung-schaubergwerk-und-zentrum-am-berg-3ahbth-3bhbth-su/
END:VEVENT
END:VCALENDAR