BEGIN:VCALENDAR
VERSION:2.0
PRODID:-//HTL Zeltweg - ECPv6.4.0.1//NONSGML v1.0//EN
CALSCALE:GREGORIAN
METHOD:PUBLISH
X-WR-CALNAME:HTL Zeltweg
X-ORIGINAL-URL:https://www.htl-zeltweg.at
X-WR-CALDESC:Veranstaltungen für HTL Zeltweg
REFRESH-INTERVAL;VALUE=DURATION:PT1H
X-Robots-Tag:noindex
X-PUBLISHED-TTL:PT1H
BEGIN:VTIMEZONE
TZID:Europe/Vienna
BEGIN:DAYLIGHT
TZOFFSETFROM:+0100
TZOFFSETTO:+0200
TZNAME:CEST
DTSTART:20230326T010000
END:DAYLIGHT
BEGIN:STANDARD
TZOFFSETFROM:+0200
TZOFFSETTO:+0100
TZNAME:CET
DTSTART:20231029T010000
END:STANDARD
BEGIN:DAYLIGHT
TZOFFSETFROM:+0100
TZOFFSETTO:+0200
TZNAME:CEST
DTSTART:20240331T010000
END:DAYLIGHT
BEGIN:STANDARD
TZOFFSETFROM:+0200
TZOFFSETTO:+0100
TZNAME:CET
DTSTART:20241027T010000
END:STANDARD
BEGIN:DAYLIGHT
TZOFFSETFROM:+0100
TZOFFSETTO:+0200
TZNAME:CEST
DTSTART:20250330T010000
END:DAYLIGHT
BEGIN:STANDARD
TZOFFSETFROM:+0200
TZOFFSETTO:+0100
TZNAME:CET
DTSTART:20251026T010000
END:STANDARD
END:VTIMEZONE
BEGIN:VEVENT
DTSTART;VALUE=DATE:20250929
DTEND;VALUE=DATE:20250930
DTSTAMP:20260420T233153
CREATED:20250922T102354Z
LAST-MODIFIED:20250922T141514Z
UID:33069-1759104000-1759190399@www.htl-zeltweg.at
SUMMARY:Exkursion Baustelle Aichdorf - 5AHBTH und 5BHBTB - WO/RIS
DESCRIPTION:
URL:https://www.htl-zeltweg.at/termine/exkursion-baustelle-aichdorf-5ahbth-und-5bhbtb-wo-ris/
END:VEVENT
BEGIN:VEVENT
DTSTART;VALUE=DATE:20231003
DTEND;VALUE=DATE:20231004
DTSTAMP:20260420T233153
CREATED:20230516T082827Z
LAST-MODIFIED:20230516T082828Z
UID:21036-1696291200-1696377599@www.htl-zeltweg.at
SUMMARY:Business- und Karrieretag
DESCRIPTION:
URL:https://www.htl-zeltweg.at/termine/business-und-karrieretag/
END:VEVENT
BEGIN:VEVENT
DTSTART;VALUE=DATE:20231004
DTEND;VALUE=DATE:20231005
DTSTAMP:20260420T233153
CREATED:20230918T124846Z
LAST-MODIFIED:20230918T124846Z
UID:22585-1696377600-1696463999@www.htl-zeltweg.at
SUMMARY:Elternabend für die ersten Jahrgänge/Klassen ab 18 Uhr
DESCRIPTION:
URL:https://www.htl-zeltweg.at/termine/elternabend-fuer-die-ersten-jahrgaenge-klassen-ab-18-uhr/
END:VEVENT
BEGIN:VEVENT
DTSTART;TZID=Europe/Vienna:20231009T075000
DTEND;TZID=Europe/Vienna:20231009T173000
DTSTAMP:20260420T233153
CREATED:20231004T052840Z
LAST-MODIFIED:20231004T052922Z
UID:23138-1696837800-1696872600@www.htl-zeltweg.at
SUMMARY:Autobahn bau ASFINAG ILZ - 3AHBTH\, 3BHBTH - SU\, KC
DESCRIPTION:
URL:https://www.htl-zeltweg.at/termine/autobahn-bau-asfinag-ilz-3ahbth-3bhbth-su-kc/
END:VEVENT
BEGIN:VEVENT
DTSTART;TZID=Europe/Vienna:20231010T075000
DTEND;TZID=Europe/Vienna:20231010T183000
DTSTAMP:20260420T233153
CREATED:20231005T104334Z
LAST-MODIFIED:20231005T105222Z
UID:23165-1696924200-1696962600@www.htl-zeltweg.at
SUMMARY:Forstliche Ausbildungsstätte Pichl Mürztal - 4BHBTB - SE
DESCRIPTION:
URL:https://www.htl-zeltweg.at/termine/forstliche-ausbildungsstaette-pichl-muerztal-4bhbtb-se/
END:VEVENT
BEGIN:VEVENT
DTSTART;VALUE=DATE:20231012
DTEND;VALUE=DATE:20231013
DTSTAMP:20260420T233153
CREATED:20230516T081701Z
LAST-MODIFIED:20230929T080620Z
UID:21030-1697068800-1697155199@www.htl-zeltweg.at
SUMMARY:RDP 1. NT - Kompensationsprüfungen
DESCRIPTION:
URL:https://www.htl-zeltweg.at/termine/rdp-1-nt-muendlich-und-muendl-kompensationsprfgen/
END:VEVENT
BEGIN:VEVENT
DTSTART;TZID=Europe/Vienna:20231012T074000
DTEND;TZID=Europe/Vienna:20231012T173000
DTSTAMP:20260420T233153
CREATED:20230925T052009Z
LAST-MODIFIED:20230925T052011Z
UID:22948-1697096400-1697131800@www.htl-zeltweg.at
SUMMARY:Buddhistisches Zentrum\, Graz - 5YHBTH - GL
DESCRIPTION:
URL:https://www.htl-zeltweg.at/termine/buddhistisches-zentrum-graz-5yhbth-gl/
END:VEVENT
BEGIN:VEVENT
DTSTART;VALUE=DATE:20231013
DTEND;VALUE=DATE:20231014
DTSTAMP:20260420T233153
CREATED:20230929T080717Z
LAST-MODIFIED:20230929T080717Z
UID:23090-1697155200-1697241599@www.htl-zeltweg.at
SUMMARY:RDP 1. NT - mündl. Prüfungen
DESCRIPTION:
URL:https://www.htl-zeltweg.at/termine/rdp-1-nt-muendl-pruefungen/
END:VEVENT
BEGIN:VEVENT
DTSTART;VALUE=DATE:20231018
DTEND;VALUE=DATE:20231026
DTSTAMP:20260420T233153
CREATED:20230712T061430Z
LAST-MODIFIED:20230712T061430Z
UID:21979-1697587200-1698278399@www.htl-zeltweg.at
SUMMARY:Anmeldezeitraum Semesterprüfungen - 2. Termin WS
DESCRIPTION:
URL:https://www.htl-zeltweg.at/termine/anmeldezeitraum-semesterpruefungen-2-termin-ws/
END:VEVENT
BEGIN:VEVENT
DTSTART;TZID=Europe/Vienna:20231020T074500
DTEND;TZID=Europe/Vienna:20231020T140000
DTSTAMP:20260420T233153
CREATED:20231004T113435Z
LAST-MODIFIED:20231004T113436Z
UID:23155-1697787900-1697810400@www.htl-zeltweg.at
SUMMARY:Aigen/Ennstal - 5CHMBR - MR\, SA
DESCRIPTION:
URL:https://www.htl-zeltweg.at/termine/aigen-ennstal-5chmbr-mr-sa/
END:VEVENT
BEGIN:VEVENT
DTSTART;TZID=Europe/Vienna:20231024T075000
DTEND;TZID=Europe/Vienna:20231025T173000
DTSTAMP:20260420T233153
CREATED:20231023T114254Z
LAST-MODIFIED:20231023T114254Z
UID:23579-1698133800-1698255000@www.htl-zeltweg.at
SUMMARY:Komptech Slowenien Maribor - 3AHBTH\, 3BHBTH - SU\, KC
DESCRIPTION:
URL:https://www.htl-zeltweg.at/termine/komptech-slowenien-maribor-3ahbth-3bhbth-su-kc/
END:VEVENT
BEGIN:VEVENT
DTSTART;VALUE=DATE:20231026
DTEND;VALUE=DATE:20231103
DTSTAMP:20260420T233153
CREATED:20230516T082237Z
LAST-MODIFIED:20230516T082237Z
UID:21034-1698278400-1698969599@www.htl-zeltweg.at
SUMMARY:Herbstferien
DESCRIPTION:
URL:https://www.htl-zeltweg.at/termine/herbstferien-4/
END:VEVENT
END:VCALENDAR