BEGIN:VCALENDAR
VERSION:2.0
PRODID:-//HTL Zeltweg - ECPv6.4.0.1//NONSGML v1.0//EN
CALSCALE:GREGORIAN
METHOD:PUBLISH
X-ORIGINAL-URL:https://www.htl-zeltweg.at
X-WR-CALDESC:Veranstaltungen für HTL Zeltweg
REFRESH-INTERVAL;VALUE=DURATION:PT1H
X-Robots-Tag:noindex
X-PUBLISHED-TTL:PT1H
BEGIN:VTIMEZONE
TZID:Europe/Vienna
BEGIN:DAYLIGHT
TZOFFSETFROM:+0100
TZOFFSETTO:+0200
TZNAME:CEST
DTSTART:20230326T010000
END:DAYLIGHT
BEGIN:STANDARD
TZOFFSETFROM:+0200
TZOFFSETTO:+0100
TZNAME:CET
DTSTART:20231029T010000
END:STANDARD
BEGIN:DAYLIGHT
TZOFFSETFROM:+0100
TZOFFSETTO:+0200
TZNAME:CEST
DTSTART:20240331T010000
END:DAYLIGHT
BEGIN:STANDARD
TZOFFSETFROM:+0200
TZOFFSETTO:+0100
TZNAME:CET
DTSTART:20241027T010000
END:STANDARD
BEGIN:DAYLIGHT
TZOFFSETFROM:+0100
TZOFFSETTO:+0200
TZNAME:CEST
DTSTART:20250330T010000
END:DAYLIGHT
BEGIN:STANDARD
TZOFFSETFROM:+0200
TZOFFSETTO:+0100
TZNAME:CET
DTSTART:20251026T010000
END:STANDARD
END:VTIMEZONE
BEGIN:VEVENT
DTSTART;VALUE=DATE:20250929
DTEND;VALUE=DATE:20250930
DTSTAMP:20260420T214203
CREATED:20250922T102354Z
LAST-MODIFIED:20250922T141514Z
UID:33069-1759104000-1759190399@www.htl-zeltweg.at
SUMMARY:Exkursion Baustelle Aichdorf - 5AHBTH und 5BHBTB - WO/RIS
DESCRIPTION:
URL:https://www.htl-zeltweg.at/termine/exkursion-baustelle-aichdorf-5ahbth-und-5bhbtb-wo-ris/
END:VEVENT
BEGIN:VEVENT
DTSTART;VALUE=DATE:20231026
DTEND;VALUE=DATE:20231103
DTSTAMP:20260420T214203
CREATED:20230516T082237Z
LAST-MODIFIED:20230516T082237Z
UID:21034-1698278400-1698969599@www.htl-zeltweg.at
SUMMARY:Herbstferien
DESCRIPTION:
URL:https://www.htl-zeltweg.at/termine/herbstferien-4/
END:VEVENT
BEGIN:VEVENT
DTSTART;VALUE=DATE:20231103
DTEND;VALUE=DATE:20231104
DTSTAMP:20260420T214203
CREATED:20230919T103659Z
LAST-MODIFIED:20230919T104307Z
UID:22620-1698969600-1699055999@www.htl-zeltweg.at
SUMMARY:schulautonom frei
DESCRIPTION:
URL:https://www.htl-zeltweg.at/termine/schulautnom-frei/
END:VEVENT
BEGIN:VEVENT
DTSTART;VALUE=DATE:20231106
DTEND;VALUE=DATE:20231110
DTSTAMP:20260420T214203
CREATED:20230925T093357Z
LAST-MODIFIED:20230925T093357Z
UID:22955-1699228800-1699574399@www.htl-zeltweg.at
SUMMARY:Exkursion Venedig:  4AHBTH und 4BHBTB
DESCRIPTION:
URL:https://www.htl-zeltweg.at/termine/exkursion-venedig-4ahbth-und-4bhbtb/
END:VEVENT
BEGIN:VEVENT
DTSTART;VALUE=DATE:20231106
DTEND;VALUE=DATE:20231111
DTSTAMP:20260420T214203
CREATED:20230712T061032Z
LAST-MODIFIED:20230712T061033Z
UID:21972-1699228800-1699660799@www.htl-zeltweg.at
SUMMARY:Semesterprüfungen: 2. Termin – Wintersemester
DESCRIPTION:
URL:https://www.htl-zeltweg.at/termine/semesterpruefungen-2-termin-wintersemester-5/
END:VEVENT
BEGIN:VEVENT
DTSTART;TZID=Europe/Vienna:20231106T065500
DTEND;TZID=Europe/Vienna:20231107T200000
DTSTAMP:20260420T214203
CREATED:20231016T103620Z
LAST-MODIFIED:20231016T103621Z
UID:23481-1699253700-1699387200@www.htl-zeltweg.at
SUMMARY:Linz Ars Electronica - 2YHBTB - LO\, DI
DESCRIPTION:
URL:https://www.htl-zeltweg.at/termine/linz-ars-electronica-2yhbtb-lo-di/
END:VEVENT
BEGIN:VEVENT
DTSTART;VALUE=DATE:20231111
DTEND;VALUE=DATE:20231112
DTSTAMP:20260420T214203
CREATED:20230711T044946Z
LAST-MODIFIED:20230711T044947Z
UID:21955-1699660800-1699747199@www.htl-zeltweg.at
SUMMARY:Tag der offenen Tür - HTL Trieben
DESCRIPTION:
URL:https://www.htl-zeltweg.at/termine/tag-der-offenen-tuer-htl-trieben/
END:VEVENT
BEGIN:VEVENT
DTSTART;TZID=Europe/Vienna:20231113T084000
DTEND;TZID=Europe/Vienna:20231113T122000
DTSTAMP:20260420T214203
CREATED:20230920T073244Z
LAST-MODIFIED:20230920T073246Z
UID:22634-1699864800-1699878000@www.htl-zeltweg.at
SUMMARY:Theateraufführung der Österr. Länderbühne
DESCRIPTION:
URL:https://www.htl-zeltweg.at/termine/theaterauffuehrung-der-oesterr-laenderbuehne/
END:VEVENT
BEGIN:VEVENT
DTSTART;TZID=Europe/Vienna:20231114T075000
DTEND;TZID=Europe/Vienna:20231114T094500
DTSTAMP:20260420T214203
CREATED:20231109T142052Z
LAST-MODIFIED:20231109T142053Z
UID:23810-1699948200-1699955100@www.htl-zeltweg.at
SUMMARY:Besichtigung der orthodoxen Kirche\, Knittelfeld - 5YHBTH - GL
DESCRIPTION:
URL:https://www.htl-zeltweg.at/termine/besichtigung-der-orthodoxen-kirche-knittelfeld-5yhbth-gl/
END:VEVENT
BEGIN:VEVENT
DTSTART;TZID=Europe/Vienna:20231117T130000
DTEND;TZID=Europe/Vienna:20231117T173000
DTSTAMP:20260420T214203
CREATED:20230711T044752Z
LAST-MODIFIED:20230711T044753Z
UID:21950-1700226000-1700242200@www.htl-zeltweg.at
SUMMARY:Tag der offenen Tür - HTL Zeltweg
DESCRIPTION:
URL:https://www.htl-zeltweg.at/termine/tag-der-offenen-tuer-htl-zeltweg-3/
END:VEVENT
BEGIN:VEVENT
DTSTART;TZID=Europe/Vienna:20231118T083000
DTEND;TZID=Europe/Vienna:20231118T133000
DTSTAMP:20260420T214203
CREATED:20230711T044859Z
LAST-MODIFIED:20231013T090709Z
UID:21953-1700296200-1700314200@www.htl-zeltweg.at
SUMMARY:Tag der offenen Tür - HTL Zeltweg
DESCRIPTION:
URL:https://www.htl-zeltweg.at/termine/tag-der-offenen-tuer-htl-zeltweg-4/
END:VEVENT
BEGIN:VEVENT
DTSTART;VALUE=DATE:20231120
DTEND;VALUE=DATE:20231124
DTSTAMP:20260420T214203
CREATED:20230925T105123Z
LAST-MODIFIED:20230925T105123Z
UID:22969-1700438400-1700783999@www.htl-zeltweg.at
SUMMARY:Exkursion Venedig: 5AHBTH und 5YHBTH
DESCRIPTION:
URL:https://www.htl-zeltweg.at/termine/exkursion-venedig-5ahbth-und-5yhbth/
END:VEVENT
BEGIN:VEVENT
DTSTART;VALUE=DATE:20231120
DTEND;VALUE=DATE:20231124
DTSTAMP:20260420T214203
CREATED:20231016T103250Z
LAST-MODIFIED:20231016T103251Z
UID:23477-1700438400-1700783999@www.htl-zeltweg.at
SUMMARY:Venedig - Baustil und Architektur Biennale - 5AHBTH\, 5YHBTH -  ST\, WO\, TH
DESCRIPTION:
URL:https://www.htl-zeltweg.at/termine/venedig-baustil-und-architektur-biennale-5ahbth-5yhbth-st-wo-th/
END:VEVENT
BEGIN:VEVENT
DTSTART;VALUE=DATE:20231122
DTEND;VALUE=DATE:20231125
DTSTAMP:20260420T214203
CREATED:20231113T131340Z
LAST-MODIFIED:20231113T131436Z
UID:23821-1700611200-1700870399@www.htl-zeltweg.at
SUMMARY:Technik trifft auf Kultur - Steyr-St. Valentin-Enns - 2CHMBR - DM
DESCRIPTION:
URL:https://www.htl-zeltweg.at/termine/technik-trifft-auf-kultur-steyr-st-valentin-enns-2chmbr-dm/
END:VEVENT
BEGIN:VEVENT
DTSTART;TZID=Europe/Vienna:20231129T083000
DTEND;TZID=Europe/Vienna:20231129T170000
DTSTAMP:20260420T214203
CREATED:20231121T121534Z
LAST-MODIFIED:20231127T123139Z
UID:23903-1701246600-1701277200@www.htl-zeltweg.at
SUMMARY:Future Convent\, Judenburg - 3AHMBR\, 3AHBTH\, 3BHBTB\, 4AHMBR\, 4AHBTH\, 4BHBTB - GS\, KH\, RM\, SU
DESCRIPTION:
URL:https://www.htl-zeltweg.at/termine/future-convent-judenburg-3ahmbr-gs/
END:VEVENT
END:VCALENDAR