BEGIN:VCALENDAR
VERSION:2.0
PRODID:-//HTL Zeltweg - ECPv6.4.0.1//NONSGML v1.0//EN
CALSCALE:GREGORIAN
METHOD:PUBLISH
X-ORIGINAL-URL:https://www.htl-zeltweg.at
X-WR-CALDESC:Veranstaltungen für HTL Zeltweg
REFRESH-INTERVAL;VALUE=DURATION:PT1H
X-Robots-Tag:noindex
X-PUBLISHED-TTL:PT1H
BEGIN:VTIMEZONE
TZID:Europe/Vienna
BEGIN:DAYLIGHT
TZOFFSETFROM:+0100
TZOFFSETTO:+0200
TZNAME:CEST
DTSTART:20230326T010000
END:DAYLIGHT
BEGIN:STANDARD
TZOFFSETFROM:+0200
TZOFFSETTO:+0100
TZNAME:CET
DTSTART:20231029T010000
END:STANDARD
BEGIN:DAYLIGHT
TZOFFSETFROM:+0100
TZOFFSETTO:+0200
TZNAME:CEST
DTSTART:20240331T010000
END:DAYLIGHT
BEGIN:STANDARD
TZOFFSETFROM:+0200
TZOFFSETTO:+0100
TZNAME:CET
DTSTART:20241027T010000
END:STANDARD
BEGIN:DAYLIGHT
TZOFFSETFROM:+0100
TZOFFSETTO:+0200
TZNAME:CEST
DTSTART:20250330T010000
END:DAYLIGHT
BEGIN:STANDARD
TZOFFSETFROM:+0200
TZOFFSETTO:+0100
TZNAME:CET
DTSTART:20251026T010000
END:STANDARD
END:VTIMEZONE
BEGIN:VEVENT
DTSTART;VALUE=DATE:20250929
DTEND;VALUE=DATE:20250930
DTSTAMP:20260420T200043
CREATED:20250922T102354Z
LAST-MODIFIED:20250922T141514Z
UID:33069-1759104000-1759190399@www.htl-zeltweg.at
SUMMARY:Exkursion Baustelle Aichdorf - 5AHBTH und 5BHBTB - WO/RIS
DESCRIPTION:
URL:https://www.htl-zeltweg.at/termine/exkursion-baustelle-aichdorf-5ahbth-und-5bhbtb-wo-ris/
END:VEVENT
BEGIN:VEVENT
DTSTART;TZID=Europe/Vienna:20231204T150000
DTEND;TZID=Europe/Vienna:20231204T190000
DTSTAMP:20260420T200043
CREATED:20231013T093813Z
LAST-MODIFIED:20231013T093813Z
UID:23367-1701702000-1701716400@www.htl-zeltweg.at
SUMMARY:Elternsprechtag - HTL Zeltweg
DESCRIPTION:
URL:https://www.htl-zeltweg.at/termine/elternsprechtag-htl-zeltweg/
END:VEVENT
BEGIN:VEVENT
DTSTART;VALUE=DATE:20231205
DTEND;VALUE=DATE:20231206
DTSTAMP:20260420T200043
CREATED:20230928T075248Z
LAST-MODIFIED:20230928T075420Z
UID:23071-1701734400-1701820799@www.htl-zeltweg.at
SUMMARY:Abgabe der Diplomarbeiten: Wintertermin RDP 22/23\, spät. 12 Uhr
DESCRIPTION:
URL:https://www.htl-zeltweg.at/termine/abgabe-der-diplomarbeiten-wintertermin-rdp-22-23-spaet-12-uhr/
END:VEVENT
BEGIN:VEVENT
DTSTART;TZID=Europe/Vienna:20231205T080000
DTEND;TZID=Europe/Vienna:20231205T120000
DTSTAMP:20260420T200043
CREATED:20231010T080652Z
LAST-MODIFIED:20231010T080656Z
UID:23261-1701763200-1701777600@www.htl-zeltweg.at
SUMMARY:1. Schnuppertag in der HTL Zeltweg
DESCRIPTION:
URL:https://www.htl-zeltweg.at/termine/1-schnuppertag-in-der-htl-zeltweg/
END:VEVENT
BEGIN:VEVENT
DTSTART;TZID=Europe/Vienna:20231210T150000
DTEND;TZID=Europe/Vienna:20231215T150000
DTSTAMP:20260420T200043
CREATED:20231129T110742Z
LAST-MODIFIED:20231129T110744Z
UID:24083-1702220400-1702652400@www.htl-zeltweg.at
SUMMARY:Wienwoche\, Vertiefung der Theorie BT - 3BHBTH - SU\, KC
DESCRIPTION:
URL:https://www.htl-zeltweg.at/termine/wienwoche-vertiefung-der-theorie-bt-3bhbth-su-kc/
END:VEVENT
BEGIN:VEVENT
DTSTART;TZID=Europe/Vienna:20231210T150000
DTEND;TZID=Europe/Vienna:20231215T150000
DTSTAMP:20260420T200043
CREATED:20231204T111141Z
LAST-MODIFIED:20231204T111143Z
UID:24195-1702220400-1702652400@www.htl-zeltweg.at
SUMMARY:Wienwoche\, Vertiefung der Theorie BT - 3AHBTH\, 3BHBTB - SU\, KC
DESCRIPTION:
URL:https://www.htl-zeltweg.at/termine/wienwoche-vertiefung-der-theorie-bt-3ahbth-3bhbtb-su-kc/
END:VEVENT
BEGIN:VEVENT
DTSTART;TZID=Europe/Vienna:20231213T075000
DTEND;TZID=Europe/Vienna:20231213T103500
DTSTAMP:20260420T200043
CREATED:20231201T083151Z
LAST-MODIFIED:20231201T083151Z
UID:24174-1702453800-1702463700@www.htl-zeltweg.at
SUMMARY:GIS-DAY\, Vermessungsamt Judenburg - 2AHBTH\, 2YHBTB - RIS\, HAB\, TH
DESCRIPTION:
URL:https://www.htl-zeltweg.at/termine/gis-day-vermessungsamt-judenburg-2ahbth-2yhbtb-ris-hab-th/
END:VEVENT
BEGIN:VEVENT
DTSTART;TZID=Europe/Vienna:20231218T113000
DTEND;TZID=Europe/Vienna:20231219T173000
DTSTAMP:20260420T200043
CREATED:20231201T090236Z
LAST-MODIFIED:20231201T090237Z
UID:24176-1702899000-1703007000@www.htl-zeltweg.at
SUMMARY:Orientierungstag\, Stift St. Lambrecht - 3BHMBR - GL
DESCRIPTION:
URL:https://www.htl-zeltweg.at/termine/orientierungstag-stift-st-lambrecht-3bhmbr-gl/
END:VEVENT
BEGIN:VEVENT
DTSTART;TZID=Europe/Vienna:20231218T122000
DTEND;TZID=Europe/Vienna:20231218T163000
DTSTAMP:20260420T200043
CREATED:20231108T182301Z
LAST-MODIFIED:20231108T182302Z
UID:23801-1702902000-1702917000@www.htl-zeltweg.at
SUMMARY:Firmenvortrag SIGA - 3BHBTB - RIS\, FUR
DESCRIPTION:
URL:https://www.htl-zeltweg.at/termine/firmenvortrag-siga-3bhbtb-ris-fur/
END:VEVENT
BEGIN:VEVENT
DTSTART;VALUE=DATE:20231219
DTEND;VALUE=DATE:20231220
DTSTAMP:20260420T200043
CREATED:20231128T070752Z
LAST-MODIFIED:20231128T070754Z
UID:24046-1702944000-1703030399@www.htl-zeltweg.at
SUMMARY:Notenschluss 5. Jahrgänge (9.Semester) - 18 Uhr
DESCRIPTION:
URL:https://www.htl-zeltweg.at/termine/notenschluss-5-jahrgaenge-9-semester-18-uhr/
END:VEVENT
BEGIN:VEVENT
DTSTART;TZID=Europe/Vienna:20231219T080000
DTEND;TZID=Europe/Vienna:20231219T120000
DTSTAMP:20260420T200043
CREATED:20231010T080829Z
LAST-MODIFIED:20231010T080829Z
UID:23263-1702972800-1702987200@www.htl-zeltweg.at
SUMMARY:2. Schnuppertag in der HTL Zeltweg
DESCRIPTION:
URL:https://www.htl-zeltweg.at/termine/2-schnuppertag-in-der-htl-zeltweg/
END:VEVENT
BEGIN:VEVENT
DTSTART;VALUE=DATE:20231220
DTEND;VALUE=DATE:20231221
DTSTAMP:20260420T200043
CREATED:20231128T070908Z
LAST-MODIFIED:20231128T070908Z
UID:24048-1703030400-1703116799@www.htl-zeltweg.at
SUMMARY:Notenkonferenz 5. Jahrgänge (9.Semester)
DESCRIPTION:
URL:https://www.htl-zeltweg.at/termine/notenkonferenz-5-jahrgaenge-9-semester/
END:VEVENT
BEGIN:VEVENT
DTSTART;TZID=Europe/Vienna:20231221T084000
DTEND;TZID=Europe/Vienna:20231221T131000
DTSTAMP:20260420T200043
CREATED:20231004T113557Z
LAST-MODIFIED:20231004T113557Z
UID:23157-1703148000-1703164200@www.htl-zeltweg.at
SUMMARY:Suchtpräsentation in der Klasse - 1CHMBR - BL
DESCRIPTION:
URL:https://www.htl-zeltweg.at/termine/suchtpraesentation-in-der-klasse-1chmbr-bl/
END:VEVENT
BEGIN:VEVENT
DTSTART;VALUE=DATE:20231222
DTEND;VALUE=DATE:20231223
DTSTAMP:20260420T200043
CREATED:20231129T110854Z
LAST-MODIFIED:20231207T135848Z
UID:24086-1703203200-1703289599@www.htl-zeltweg.at
SUMMARY:Volleyballturnier\, HTL Trieben - 4BHMBR\, 4AHBTH - ST\, SM
DESCRIPTION:
URL:https://www.htl-zeltweg.at/termine/volleyballturnier-htl-trieben-4bhmbr-st-sm/
END:VEVENT
BEGIN:VEVENT
DTSTART;VALUE=DATE:20231223
DTEND;VALUE=DATE:20240108
DTSTAMP:20260420T200043
CREATED:20230713T054450Z
LAST-MODIFIED:20230713T055211Z
UID:22012-1703289600-1704671999@www.htl-zeltweg.at
SUMMARY:Weihnachtsferien
DESCRIPTION:
URL:https://www.htl-zeltweg.at/termine/weihnachtsferien-5/
END:VEVENT
END:VCALENDAR