BEGIN:VCALENDAR
VERSION:2.0
PRODID:-//HTL Zeltweg - ECPv6.4.0.1//NONSGML v1.0//EN
CALSCALE:GREGORIAN
METHOD:PUBLISH
X-WR-CALNAME:HTL Zeltweg
X-ORIGINAL-URL:https://www.htl-zeltweg.at
X-WR-CALDESC:Veranstaltungen für HTL Zeltweg
REFRESH-INTERVAL;VALUE=DURATION:PT1H
X-Robots-Tag:noindex
X-PUBLISHED-TTL:PT1H
BEGIN:VTIMEZONE
TZID:Europe/Vienna
BEGIN:DAYLIGHT
TZOFFSETFROM:+0100
TZOFFSETTO:+0200
TZNAME:CEST
DTSTART:20230326T010000
END:DAYLIGHT
BEGIN:STANDARD
TZOFFSETFROM:+0200
TZOFFSETTO:+0100
TZNAME:CET
DTSTART:20231029T010000
END:STANDARD
BEGIN:DAYLIGHT
TZOFFSETFROM:+0100
TZOFFSETTO:+0200
TZNAME:CEST
DTSTART:20240331T010000
END:DAYLIGHT
BEGIN:STANDARD
TZOFFSETFROM:+0200
TZOFFSETTO:+0100
TZNAME:CET
DTSTART:20241027T010000
END:STANDARD
BEGIN:DAYLIGHT
TZOFFSETFROM:+0100
TZOFFSETTO:+0200
TZNAME:CEST
DTSTART:20250330T010000
END:DAYLIGHT
BEGIN:STANDARD
TZOFFSETFROM:+0200
TZOFFSETTO:+0100
TZNAME:CET
DTSTART:20251026T010000
END:STANDARD
END:VTIMEZONE
BEGIN:VEVENT
DTSTART;VALUE=DATE:20250929
DTEND;VALUE=DATE:20250930
DTSTAMP:20260420T213831
CREATED:20250922T102354Z
LAST-MODIFIED:20250922T141514Z
UID:33069-1759104000-1759190399@www.htl-zeltweg.at
SUMMARY:Exkursion Baustelle Aichdorf - 5AHBTH und 5BHBTB - WO/RIS
DESCRIPTION:
URL:https://www.htl-zeltweg.at/termine/exkursion-baustelle-aichdorf-5ahbth-und-5bhbtb-wo-ris/
END:VEVENT
BEGIN:VEVENT
DTSTART;VALUE=DATE:20231223
DTEND;VALUE=DATE:20240108
DTSTAMP:20260420T213831
CREATED:20230713T054450Z
LAST-MODIFIED:20230713T055211Z
UID:22012-1703289600-1704671999@www.htl-zeltweg.at
SUMMARY:Weihnachtsferien
DESCRIPTION:
URL:https://www.htl-zeltweg.at/termine/weihnachtsferien-5/
END:VEVENT
BEGIN:VEVENT
DTSTART;VALUE=DATE:20240108
DTEND;VALUE=DATE:20240113
DTSTAMP:20260420T213831
CREATED:20231206T102154Z
LAST-MODIFIED:20231206T102157Z
UID:24240-1704672000-1705103999@www.htl-zeltweg.at
SUMMARY:Wienaktion - 4AHMBR\, 4BHMBR - TC\, HH
DESCRIPTION:
URL:https://www.htl-zeltweg.at/termine/wienaktion-4ahmbr-4bhmbr-tc-hh/
END:VEVENT
BEGIN:VEVENT
DTSTART;TZID=Europe/Vienna:20240108T122000
DTEND;TZID=Europe/Vienna:20240108T164000
DTSTAMP:20260420T213831
CREATED:20231108T182453Z
LAST-MODIFIED:20231108T182453Z
UID:23803-1704716400-1704732000@www.htl-zeltweg.at
SUMMARY:Firmenvortrag SIGA- 3AHBTH- GRU\, MAY
DESCRIPTION:
URL:https://www.htl-zeltweg.at/termine/firmenvortrag-siga-3ahbth-gru-may/
END:VEVENT
BEGIN:VEVENT
DTSTART;VALUE=DATE:20240110
DTEND;VALUE=DATE:20240118
DTSTAMP:20260420T213831
CREATED:20230712T061516Z
LAST-MODIFIED:20230712T061517Z
UID:21981-1704844800-1705535999@www.htl-zeltweg.at
SUMMARY:Anmeldezeitraum Semesterprüfungen - 3. Termin WS
DESCRIPTION:
URL:https://www.htl-zeltweg.at/termine/anmeldezeitraum-semesterpruefungen-3-termin-ws/
END:VEVENT
BEGIN:VEVENT
DTSTART;VALUE=DATE:20240112
DTEND;VALUE=DATE:20240113
DTSTAMP:20260420T213831
CREATED:20231013T093932Z
LAST-MODIFIED:20231013T094112Z
UID:23369-1705017600-1705103999@www.htl-zeltweg.at
SUMMARY:RDP Wintertermin 22/23 - Fachtheorie\, ab 8.30 Uhr
DESCRIPTION:
URL:https://www.htl-zeltweg.at/termine/reife-und-diplompruefung-2-nebentermin-fachtheorie-ab-8-30-uhr/
END:VEVENT
BEGIN:VEVENT
DTSTART;TZID=Europe/Vienna:20240116T080000
DTEND;TZID=Europe/Vienna:20240116T120000
DTSTAMP:20260420T213831
CREATED:20231010T080902Z
LAST-MODIFIED:20231010T080902Z
UID:23265-1705392000-1705406400@www.htl-zeltweg.at
SUMMARY:3. Schnuppertag in der HTL Zeltweg
DESCRIPTION:
URL:https://www.htl-zeltweg.at/termine/3-schnuppertag-in-der-htl-zeltweg/
END:VEVENT
BEGIN:VEVENT
DTSTART;VALUE=DATE:20240122
DTEND;VALUE=DATE:20240127
DTSTAMP:20260420T213831
CREATED:20230712T061112Z
LAST-MODIFIED:20231123T102851Z
UID:21975-1705881600-1706313599@www.htl-zeltweg.at
SUMMARY:Semesterprüfungen: 3. Termin – Wintersemester
DESCRIPTION:
URL:https://www.htl-zeltweg.at/termine/semesterpruefungen-3-termin-wintersemester-4/
END:VEVENT
BEGIN:VEVENT
DTSTART;TZID=Europe/Vienna:20240124T075000
DTEND;TZID=Europe/Vienna:20240124T180000
DTSTAMP:20260420T213831
CREATED:20231206T141557Z
LAST-MODIFIED:20231206T142051Z
UID:24247-1706082600-1706119200@www.htl-zeltweg.at
SUMMARY:Workshop Kleine Zeitung und MINKT- Labor TU Graz - 1YHBTB - GS\, TO
DESCRIPTION:
URL:https://www.htl-zeltweg.at/termine/workshop-kleine-zeitung-und-minkt-labor-tu-graz-1yhbtb-gs-to/
END:VEVENT
BEGIN:VEVENT
DTSTART;VALUE=DATE:20240128
DTEND;VALUE=DATE:20240203
DTSTAMP:20260420T213831
CREATED:20230925T091559Z
LAST-MODIFIED:20230925T091559Z
UID:22952-1706400000-1706918399@www.htl-zeltweg.at
SUMMARY:Wintersportwoche in Maria Alm/Hintermoos: 2AHMBR\, 2BHMBR\, 2AHBTH\, 2YHBTB
DESCRIPTION:
URL:https://www.htl-zeltweg.at/termine/wintersportwoche-in-maria-alm-hintermoos-2ahmbr-2bhmbr-2ahbth-2yhbtb/
END:VEVENT
BEGIN:VEVENT
DTSTART;VALUE=DATE:20240131
DTEND;VALUE=DATE:20240201
DTSTAMP:20260420T213831
CREATED:20230928T090143Z
LAST-MODIFIED:20230928T090144Z
UID:23073-1706659200-1706745599@www.htl-zeltweg.at
SUMMARY:Präsentation Diplomarbeiten und mündl. Kompensationsprfgen: Wintertermin RDP 22/23
DESCRIPTION:
URL:https://www.htl-zeltweg.at/termine/praesentation-diplomarbeiten-und-muendl-kompensationsprfgen-wintertermin-rdp-22-23/
END:VEVENT
END:VCALENDAR