BEGIN:VCALENDAR
VERSION:2.0
PRODID:-//HTL Zeltweg - ECPv6.4.0.1//NONSGML v1.0//EN
CALSCALE:GREGORIAN
METHOD:PUBLISH
X-WR-CALNAME:HTL Zeltweg
X-ORIGINAL-URL:https://www.htl-zeltweg.at
X-WR-CALDESC:Veranstaltungen für HTL Zeltweg
REFRESH-INTERVAL;VALUE=DURATION:PT1H
X-Robots-Tag:noindex
X-PUBLISHED-TTL:PT1H
BEGIN:VTIMEZONE
TZID:Europe/Vienna
BEGIN:DAYLIGHT
TZOFFSETFROM:+0100
TZOFFSETTO:+0200
TZNAME:CEST
DTSTART:20240331T010000
END:DAYLIGHT
BEGIN:STANDARD
TZOFFSETFROM:+0200
TZOFFSETTO:+0100
TZNAME:CET
DTSTART:20241027T010000
END:STANDARD
BEGIN:DAYLIGHT
TZOFFSETFROM:+0100
TZOFFSETTO:+0200
TZNAME:CEST
DTSTART:20250330T010000
END:DAYLIGHT
BEGIN:STANDARD
TZOFFSETFROM:+0200
TZOFFSETTO:+0100
TZNAME:CET
DTSTART:20251026T010000
END:STANDARD
END:VTIMEZONE
BEGIN:VEVENT
DTSTART;VALUE=DATE:20250929
DTEND;VALUE=DATE:20250930
DTSTAMP:20260420T233153
CREATED:20250922T102354Z
LAST-MODIFIED:20250922T141514Z
UID:33069-1759104000-1759190399@www.htl-zeltweg.at
SUMMARY:Exkursion Baustelle Aichdorf - 5AHBTH und 5BHBTB - WO/RIS
DESCRIPTION:
URL:https://www.htl-zeltweg.at/termine/exkursion-baustelle-aichdorf-5ahbth-und-5bhbtb-wo-ris/
END:VEVENT
BEGIN:VEVENT
DTSTART;VALUE=DATE:20240128
DTEND;VALUE=DATE:20240203
DTSTAMP:20260420T233153
CREATED:20230925T091559Z
LAST-MODIFIED:20230925T091559Z
UID:22952-1706400000-1706918399@www.htl-zeltweg.at
SUMMARY:Wintersportwoche in Maria Alm/Hintermoos: 2AHMBR\, 2BHMBR\, 2AHBTH\, 2YHBTB
DESCRIPTION:
URL:https://www.htl-zeltweg.at/termine/wintersportwoche-in-maria-alm-hintermoos-2ahmbr-2bhmbr-2ahbth-2yhbtb/
END:VEVENT
BEGIN:VEVENT
DTSTART;TZID=Europe/Vienna:20240208T075000
DTEND;TZID=Europe/Vienna:20240208T145000
DTSTAMP:20260420T233153
CREATED:20240116T111516Z
LAST-MODIFIED:20240116T111517Z
UID:24857-1707378600-1707403800@www.htl-zeltweg.at
SUMMARY:Zivilrecht/Strafrecht\, Landesgericht Leoben - 5AHBTH\, 5YHBTH - SU\, RB
DESCRIPTION:
URL:https://www.htl-zeltweg.at/termine/zivilrecht-strafrecht-landesgericht-leoben-5ahbth-5yhbth-su-rb/
END:VEVENT
BEGIN:VEVENT
DTSTART;TZID=Europe/Vienna:20240208T080000
DTEND;TZID=Europe/Vienna:20240208T140000
DTSTAMP:20260420T233153
CREATED:20240201T124708Z
LAST-MODIFIED:20240201T124708Z
UID:25172-1707379200-1707400800@www.htl-zeltweg.at
SUMMARY:Besuch Landesgericht Leoben - 2AFMBM\, 3AFMBM\, 4AFMBM - MA
DESCRIPTION:
URL:https://www.htl-zeltweg.at/termine/besuch-landesgericht-leoben-2afmbm-3afmbm-4afmbm-ma/
END:VEVENT
BEGIN:VEVENT
DTSTART;VALUE=DATE:20240209
DTEND;VALUE=DATE:20240210
DTSTAMP:20260420T233153
CREATED:20240108T160235Z
LAST-MODIFIED:20240108T182806Z
UID:24707-1707436800-1707523199@www.htl-zeltweg.at
SUMMARY:Notenschluss 12 Uhr
DESCRIPTION:
URL:https://www.htl-zeltweg.at/termine/notenschluss-12-uhr/
END:VEVENT
BEGIN:VEVENT
DTSTART;VALUE=DATE:20240209
DTEND;VALUE=DATE:20240210
DTSTAMP:20260420T233153
CREATED:20240115T103837Z
LAST-MODIFIED:20240115T103837Z
UID:24809-1707436800-1707523199@www.htl-zeltweg.at
SUMMARY:Snow-Volleyball-Turnier\, Kreischberg - 4AHBTH\, SM
DESCRIPTION:
URL:https://www.htl-zeltweg.at/termine/snow-volleyball-turnier-kreischberg-4ahbth-sm/
END:VEVENT
BEGIN:VEVENT
DTSTART;TZID=Europe/Vienna:20240209T090000
DTEND;TZID=Europe/Vienna:20240209T130000
DTSTAMP:20260420T233153
CREATED:20240205T075216Z
LAST-MODIFIED:20240205T084324Z
UID:25222-1707469200-1707483600@www.htl-zeltweg.at
SUMMARY:90 Jahre Austrofaschismus\, Leoben - 4AHBTH\, 4BHBTB - LG
DESCRIPTION:
URL:https://www.htl-zeltweg.at/termine/90-jahre-austrofaschismus-leoben-4ahbth-4bhbtb-lg/
END:VEVENT
BEGIN:VEVENT
DTSTART;VALUE=DATE:20240212
DTEND;VALUE=DATE:20240213
DTSTAMP:20260420T233153
CREATED:20240108T160149Z
LAST-MODIFIED:20240108T182730Z
UID:24705-1707696000-1707782399@www.htl-zeltweg.at
SUMMARY:Semesterkonferenz 15 Uhr
DESCRIPTION:
URL:https://www.htl-zeltweg.at/termine/semesterkonferenz-15-uhr/
END:VEVENT
BEGIN:VEVENT
DTSTART;VALUE=DATE:20240212
DTEND;VALUE=DATE:20240217
DTSTAMP:20260420T233153
CREATED:20231123T103345Z
LAST-MODIFIED:20231123T112426Z
UID:23962-1707696000-1708127999@www.htl-zeltweg.at
SUMMARY:Anmeldezeitraum Semesterprüfungen - 1. Termin SS
DESCRIPTION:
URL:https://www.htl-zeltweg.at/termine/anmeldezeitraum-semesterpruefungen-1-termin-ss/
END:VEVENT
BEGIN:VEVENT
DTSTART;TZID=Europe/Vienna:20240212T070000
DTEND;TZID=Europe/Vienna:20240212T180000
DTSTAMP:20260420T233153
CREATED:20240108T084939Z
LAST-MODIFIED:20240108T084939Z
UID:24703-1707721200-1707760800@www.htl-zeltweg.at
SUMMARY:Exkursion 2AHBTH: Baustellenbesichtigung Wien Nordbahnhof - TH\, EW
DESCRIPTION:
URL:https://www.htl-zeltweg.at/termine/exkursion-2ahbth-baustellenbesichtigung-wien-nordbahnhof-th-ew/
END:VEVENT
BEGIN:VEVENT
DTSTART;VALUE=DATE:20240213
DTEND;VALUE=DATE:20240214
DTSTAMP:20260420T233153
CREATED:20240207T123452Z
LAST-MODIFIED:20240207T123452Z
UID:25261-1707782400-1707868799@www.htl-zeltweg.at
SUMMARY:Kinder HTL\, VS Fohnsdorf - 3BHMBR - MX
DESCRIPTION:
URL:https://www.htl-zeltweg.at/termine/kinder-htl-vs-fohnsdorf-3bhmbr-mx/
END:VEVENT
BEGIN:VEVENT
DTSTART;VALUE=DATE:20240215
DTEND;VALUE=DATE:20240216
DTSTAMP:20260420T233153
CREATED:20230921T120900Z
LAST-MODIFIED:20230921T120901Z
UID:22726-1707955200-1708041599@www.htl-zeltweg.at
SUMMARY:4AFMBM: Abgabe der Abschlussarbeit bis spät. 12 Uhr
DESCRIPTION:
URL:https://www.htl-zeltweg.at/termine/4afmbm-abgabe-der-abschlussarbeit-bis-spaet-12-uhr/
END:VEVENT
BEGIN:VEVENT
DTSTART;TZID=Europe/Vienna:20240215T084000
DTEND;TZID=Europe/Vienna:20240215T112500
DTSTAMP:20260420T233153
CREATED:20240125T105955Z
LAST-MODIFIED:20240125T105957Z
UID:25097-1707986400-1707996300@www.htl-zeltweg.at
SUMMARY:Suchtprävention Streetwork Liezen - 2CHMBF - DM
DESCRIPTION:
URL:https://www.htl-zeltweg.at/termine/suchtpraevention-streetwork-liezen-2chmbf-dm/
END:VEVENT
BEGIN:VEVENT
DTSTART;VALUE=DATE:20240217
DTEND;VALUE=DATE:20240226
DTSTAMP:20260420T233153
CREATED:20230713T054542Z
LAST-MODIFIED:20230713T054828Z
UID:22014-1708128000-1708905599@www.htl-zeltweg.at
SUMMARY:Semesterferien
DESCRIPTION:
URL:https://www.htl-zeltweg.at/termine/semesterferien-4/
END:VEVENT
BEGIN:VEVENT
DTSTART;VALUE=DATE:20240226
DTEND;VALUE=DATE:20240302
DTSTAMP:20260420T233153
CREATED:20231123T103001Z
LAST-MODIFIED:20231123T112349Z
UID:23956-1708905600-1709337599@www.htl-zeltweg.at
SUMMARY:Semesterprüfungen: 1. Termin – Sommersemester
DESCRIPTION:
URL:https://www.htl-zeltweg.at/termine/semesterpruefungen-1-termin-sommersemester-5/
END:VEVENT
BEGIN:VEVENT
DTSTART;VALUE=DATE:20240228
DTEND;VALUE=DATE:20240229
DTSTAMP:20260420T233153
CREATED:20230921T121015Z
LAST-MODIFIED:20230921T123757Z
UID:22728-1709078400-1709164799@www.htl-zeltweg.at
SUMMARY:4AFMBM: Sem.prüfungen - Zulassung zur AP
DESCRIPTION:
URL:https://www.htl-zeltweg.at/termine/4afmbm-sem-pruefungen-zulassung-zur-ap/
END:VEVENT
BEGIN:VEVENT
DTSTART;TZID=Europe/Vienna:20240228T143000
DTEND;TZID=Europe/Vienna:20240228T180000
DTSTAMP:20260420T233153
CREATED:20240224T220604Z
LAST-MODIFIED:20240224T220810Z
UID:25814-1709130600-1709143200@www.htl-zeltweg.at
SUMMARY:Enquete zum Thema Kinderschutz
DESCRIPTION:
URL:https://www.htl-zeltweg.at/termine/enquete-zum-thema-kinderschutz/
LOCATION:Veranstaltungsraum
END:VEVENT
END:VCALENDAR